BEGIN:VCALENDAR
VERSION:2.0
PRODID:-//ChamberMaster//Event Calendar 2.0//EN
METHOD:PUBLISH
X-PUBLISHED-TTL:P3D
REFRESH-INTERVAL:P3D
CALSCALE:GREGORIAN
BEGIN:VEVENT
DTSTART;VALUE=DATE:20110910
DTEND;VALUE=DATE:20110911
TRANSP:TRANSPARENT
X-MICROSOFT-CDO-ALLDAYEVENT:TRUE
SUMMARY:MCAS Federal Credit Union - Military Appreciation Day
DESCRIPTION:September 10\, 2011 per Blakely
X-ALT-DESC;FMTTYPE=text/html:September 10\, 2011 per Blakely
LOCATION:
UID:e.1212.3893
SEQUENCE:3
DTSTAMP:20260423T111324Z
URL:http://business.beaufortchamber.org/events/details/mcas-federal-credit-union-military-appreciation-day-09-10-2011-3893
END:VEVENT

END:VCALENDAR
