BEGIN:VCALENDAR
VERSION:2.0
PRODID:-//ChamberMaster//Event Calendar 2.0//EN
METHOD:PUBLISH
X-PUBLISHED-TTL:P3D
REFRESH-INTERVAL:P3D
CALSCALE:GREGORIAN
BEGIN:VEVENT
DTSTART;VALUE=DATE:20110915
DTEND;VALUE=DATE:20110916
TRANSP:TRANSPARENT
X-MICROSOFT-CDO-ALLDAYEVENT:TRUE
SUMMARY:MCAS Federal Credit Union - September Teachers Appreciation
DESCRIPTION:September 15\, 2011 per Blakely
X-ALT-DESC;FMTTYPE=text/html:September 15\, 2011 per Blakely
LOCATION:
UID:e.1212.3896
SEQUENCE:3
DTSTAMP:20260423T111325Z
URL:http://business.beaufortchamber.org/events/details/mcas-federal-credit-union-september-teachers-appreciation-09-15-2011-3896
END:VEVENT

END:VCALENDAR
