BEGIN:VCALENDAR
VERSION:2.0
PRODID:-//ChamberMaster//Event Calendar 2.0//EN
METHOD:PUBLISH
X-PUBLISHED-TTL:P3D
REFRESH-INTERVAL:P3D
CALSCALE:GREGORIAN
BEGIN:VEVENT
DTSTART;VALUE=DATE:20100616
DTEND;VALUE=DATE:20100617
TRANSP:TRANSPARENT
X-MICROSOFT-CDO-ALLDAYEVENT:TRUE
SUMMARY:MEC F35-B Campaign - Donations
DESCRIPTION:For invoicing Donations - per Amy
X-ALT-DESC;FMTTYPE=text/html:For invoicing Donations - per Amy
LOCATION:
UID:e.1212.3828
SEQUENCE:3
DTSTAMP:20260424T103400Z
URL:http://business.beaufortchamber.org/events/details/mec-f35-b-campaign-donations-06-16-2010-3828
END:VEVENT

END:VCALENDAR
