BEGIN:VCALENDAR
VERSION:2.0
PRODID:-//ChamberMaster//Event Calendar 2.0//EN
METHOD:PUBLISH
X-PUBLISHED-TTL:P3D
REFRESH-INTERVAL:P3D
CALSCALE:GREGORIAN
BEGIN:VEVENT
DTSTART:20120809T223000Z
DTEND:20120810T013000Z
X-MICROSOFT-CDO-ALLDAYEVENT:FALSE
SUMMARY:Met Opera in HD Summer Encore: Der Rosenkavakier
DESCRIPTION:Strauss's comic masterpiece of love and intrigue in 18th-century Vienna stars Ren e Fleming as the aristocratic Marschallin and Susan Graham in the trouser role of her young lover. Edo de Waart conducts a cast that also includes Kristinn Sigmundsson and Thomas Allen.
X-ALT-DESC;FMTTYPE=text/html:Strauss&rsquo\;s comic masterpiece of love and intrigue in 18th-century Vienna stars Ren&eacute\;e Fleming as the aristocratic Marschallin and Susan Graham in the trouser role of her young lover. Edo de Waart conducts a cast that also includes Kristinn Sigmundsson and Thomas Allen. 
LOCATION:801 Carteret Street Beaufort SC 29902
UID:e.1212.4569
SEQUENCE:3
DTSTAMP:20260422T175621Z
URL:http://business.beaufortchamber.org/events/details/met-opera-in-hd-summer-encore-der-rosenkavakier-08-09-2012-4569
END:VEVENT

END:VCALENDAR
