BEGIN:VCALENDAR
VERSION:2.0
PRODID:-//ChamberMaster//Event Calendar 2.0//EN
METHOD:PUBLISH
X-PUBLISHED-TTL:P3D
REFRESH-INTERVAL:P3D
CALSCALE:GREGORIAN
BEGIN:VEVENT
DTSTART:20120816T223000Z
DTEND:20120817T013000Z
X-MICROSOFT-CDO-ALLDAYEVENT:FALSE
SUMMARY:Met Opera in HD Summer Encore: Don Giovanni
DESCRIPTION:Mariusz Kwiecien is the world's most famous lover in Michael Grandage's new production\, led by Met Principal Conductor Fabio Luisi. The lineup of refined Mozartians also includes Marina Rebeka\, Barbara Frittoli\, Ram n Vargas\, and Luca Pisaroni.
X-ALT-DESC;FMTTYPE=text/html:Mariusz Kwiecien is the world&rsquo\;s most famous lover in Michael Grandage&#39\;s new production\, led by Met Principal Conductor Fabio Luisi. The lineup of refined Mozartians also includes Marina Rebeka\, Barbara Frittoli\, Ram&oacute\;n Vargas\, and Luca Pisaroni. 
LOCATION:801 Carteret Street Beaufort SC 29902
UID:e.1212.4570
SEQUENCE:3
DTSTAMP:20260422T175457Z
URL:http://business.beaufortchamber.org/events/details/met-opera-in-hd-summer-encore-don-giovanni-08-16-2012-4570
END:VEVENT

END:VCALENDAR
