BEGIN:VCALENDAR
VERSION:2.0
PRODID:-//ChamberMaster//Event Calendar 2.0//EN
METHOD:PUBLISH
X-PUBLISHED-TTL:P3D
REFRESH-INTERVAL:P3D
CALSCALE:GREGORIAN
BEGIN:VEVENT
DTSTART:20120802T223000Z
DTEND:20120803T010000Z
X-MICROSOFT-CDO-ALLDAYEVENT:FALSE
SUMMARY:Met Opera in HD Summer Encore: Lucia di Lammermoor
DESCRIPTION:Anna Netrebko sings the title role of Donizetti's bel canto tragedy in her Met role debut\, with Piotr Beczala as her lover\, Edgardo. Mariusz Kwiecien is her tyrannical brother. Mary Zimmerman's hit production\, first seen in 2007\, is staged as a Victorian ghost story.
X-ALT-DESC;FMTTYPE=text/html:Anna Netrebko sings the title role of Donizetti&rsquo\;s bel canto tragedy in her Met role debut\, with Piotr Beczala as her lover\, Edgardo. Mariusz Kwiecien is her tyrannical brother. Mary Zimmerman&rsquo\;s hit production\, first seen in 2007\, is staged as a Victorian ghost story.<br />\n
LOCATION:801 Carteret Street
UID:e.1212.4568
SEQUENCE:3
DTSTAMP:20260422T175619Z
URL:http://business.beaufortchamber.org/events/details/met-opera-in-hd-summer-encore-lucia-di-lammermoor-08-02-2012-4568
END:VEVENT

END:VCALENDAR
