BEGIN:VCALENDAR
VERSION:2.0
PRODID:-//ChamberMaster//Event Calendar 2.0//EN
METHOD:PUBLISH
X-PUBLISHED-TTL:P3D
REFRESH-INTERVAL:P3D
CALSCALE:GREGORIAN
BEGIN:VEVENT
DTSTART:20121201T175500Z
DTEND:20121201T210000Z
X-MICROSOFT-CDO-ALLDAYEVENT:FALSE
SUMMARY:MET OPERA: La Clemenza di Tito
DESCRIPTION:USCB Center for the Arts is proud to present Mozart's La Clemenza di Tito Live in HD on Saturday\, December 1 at 12:55 PM.   The virtuosic El na Garan a sings Sesto in Mozart's drama set in ancient Rome. Giuseppe Filianoti is the noble Tito and Barbara Frittoli is Vitellia\, in this handsome revival of one of the composer's final masterpieces. Harry Bicket conducts.
X-ALT-DESC;FMTTYPE=text/html:USCB Center for the Arts is proud to present <strong>Mozart&#39\;s La Clemenza di Tito Live in HD</strong> on<strong> Saturday\, December 1</strong> at 12:55 PM. &nbsp\; The virtuosic El&#299\;na Garan&#269\;a sings Sesto in Mozart&rsquo\;s drama set in ancient Rome. Giuseppe Filianoti is the noble Tito and Barbara Frittoli is Vitellia\, in this handsome revival of one of the composer&rsquo\;s final masterpieces. Harry Bicket conducts.
LOCATION:USCB Center for the Arts 801 Carteret Street Beaufort SC 29902
UID:e.1212.4650
SEQUENCE:3
DTSTAMP:20260422T115714Z
URL:http://business.beaufortchamber.org/events/details/met-opera-la-clemenza-di-tito-12-01-2012-4650
END:VEVENT

END:VCALENDAR
