BEGIN:VCALENDAR
VERSION:2.0
PRODID:-//ChamberMaster//Event Calendar 2.0//EN
METHOD:PUBLISH
X-PUBLISHED-TTL:P3D
REFRESH-INTERVAL:P3D
CALSCALE:GREGORIAN
BEGIN:VEVENT
DTSTART:20140315T165500Z
DTEND:20140315T210000Z
X-MICROSOFT-CDO-ALLDAYEVENT:FALSE
SUMMARY:Met Opera - Live in HD Massenet's Werther
DESCRIPTION:Jonas Kaufmann stars in the title role of Massenet's sublime adaptation of Goethe's revolutionary and tragic romance\, opposite Sophie Koch as Charlotte. The new production is directed and designed by Richard Eyre and Rob Howell\, the same team that created the Met's recent hit staging of Carmen. Rising young maestro Alain Altinoglu conducts.
X-ALT-DESC;FMTTYPE=text/html:<span style="font-family:cambria\;">Jonas Kaufmann stars in the title role of Massenet&#39\;s sublime adaptation of Goethe&#39\;s revolutionary and tragic romance\, opposite Sophie Koch as Charlotte. The new production is directed and designed by Richard Eyre and Rob Howell\, the same team that created the Met&#39\;s recent hit staging of Carmen. Rising young maestro Alain Altinoglu conducts.</span><br />\n
LOCATION:USCB Center for the Arts 801 Carteret Street Beaufort SC
UID:e.1212.5245
SEQUENCE:3
DTSTAMP:20260423T105441Z
URL:http://business.beaufortchamber.org/events/details/met-opera-live-in-hd-massenet-s-werther-03-15-2014-5245
END:VEVENT

END:VCALENDAR
