BEGIN:VCALENDAR
VERSION:2.0
PRODID:-//ChamberMaster//Event Calendar 2.0//EN
METHOD:PUBLISH
X-PUBLISHED-TTL:P3D
REFRESH-INTERVAL:P3D
CALSCALE:GREGORIAN
BEGIN:VEVENT
DTSTART:20121110T175500Z
DTEND:20121110T215500Z
X-MICROSOFT-CDO-ALLDAYEVENT:FALSE
SUMMARY:MET OPERA: The Tempest
DESCRIPTION:On Saturday\, November 10 at 12:55 PM\, USCB Center for the Arts Met Live series will continue as composer Thomas Ad s conducts the Metropolitan Opera premiere of his own work\, The Tempest. Baritone Simon Keenlyside will star as Prospero. Director Robert Lepage recreates the interior of 18th-century La Scala in this inventive staging. The New York Times calls Thomas Ad s's masterpiece "one of the most inspired\, audacious and personal operas to have come along in years."
X-ALT-DESC;FMTTYPE=text/html:<strong>On Saturday\, November 10 at 12:55 PM\,</strong> USCB Center for the Arts Met Live series will continue as composer Thomas Ad&egrave\;s conducts the Metropolitan Opera premiere of his own work\, <strong>The Tempest.</strong> Baritone Simon Keenlyside will star as Prospero. Director Robert Lepage recreates the interior of 18th-century La Scala in this inventive staging. The New York Times calls Thomas Ad&egrave\;s&rsquo\;s masterpiece &ldquo\;one of the most inspired\, audacious and personal operas to have come along in years.&rdquo\;
LOCATION:801 Carteret Street Beaufort SC 29902
UID:e.1212.4649
SEQUENCE:3
DTSTAMP:20260422T134040Z
URL:http://business.beaufortchamber.org/events/details/met-opera-the-tempest-11-10-2012-4649
END:VEVENT

END:VCALENDAR
