BEGIN:VCALENDAR
VERSION:2.0
PRODID:-//ChamberMaster//Event Calendar 2.0//EN
METHOD:PUBLISH
X-PUBLISHED-TTL:P3D
REFRESH-INTERVAL:P3D
CALSCALE:GREGORIAN
BEGIN:VEVENT
DTSTART:20130802T120000Z
DTEND:20130802T124500Z
X-MICROSOFT-CDO-ALLDAYEVENT:FALSE
SUMMARY:Military Affairs Committee
DESCRIPTION:Military Affairs Committee Meeting\n\nCarnegie Building Conference Room\n\n701 Craven Street\, Beaufort\, SC
X-ALT-DESC;FMTTYPE=text/html:Military Affairs Committee Meeting<br />\nCarnegie Building Conference Room<br />\n701 Craven Street\, Beaufort\, SC
LOCATION:
UID:e.1212.5030
SEQUENCE:3
DTSTAMP:20260421T214210Z
URL:http://business.beaufortchamber.org/events/details/military-affairs-committee-08-02-2013-5030
END:VEVENT

END:VCALENDAR
