BEGIN:VCALENDAR
VERSION:2.0
PRODID:-//ChamberMaster//Event Calendar 2.0//EN
METHOD:PUBLISH
X-PUBLISHED-TTL:P3D
REFRESH-INTERVAL:P3D
CALSCALE:GREGORIAN
BEGIN:VEVENT
DTSTART:20120222T133000Z
DTEND:20120222T143000Z
X-MICROSOFT-CDO-ALLDAYEVENT:FALSE
SUMMARY:Military Affairs Committee Meeting
DESCRIPTION:Mission Statement: The Military Affairs Committee supports activities that protect and enhance the military installations in Beaufort County\, and improve the quality of life of military families in the region.
X-ALT-DESC;FMTTYPE=text/html:<p>\n	<font face="Calibri-Italic">Mission Statement: The Military Affairs Committee supports activities that protect and </font><font face="Calibri-Italic">enhance the military installations in Beaufort County\, and improve the quality of life of </font><font face="Calibri-Italic">military families in the region.</font></p>\n<font face="Calibri-Italic"><span _fck_bookmark="1" style="display: none">&nbsp\;</span></font>
LOCATION:Carnegie Building (701 Craven Street\, Beaufort)
UID:e.1212.4503
SEQUENCE:3
DTSTAMP:20260423T041037Z
URL:http://business.beaufortchamber.org/events/details/military-affairs-committee-meeting-02-22-2012-4503
END:VEVENT

END:VCALENDAR
