BEGIN:VCALENDAR
VERSION:2.0
PRODID:-//ChamberMaster//Event Calendar 2.0//EN
METHOD:PUBLISH
X-PUBLISHED-TTL:P3D
REFRESH-INTERVAL:P3D
CALSCALE:GREGORIAN
BEGIN:VEVENT
DTSTART:20130907T150000Z
DTEND:20130907T190000Z
X-MICROSOFT-CDO-ALLDAYEVENT:FALSE
SUMMARY:Military Appreciation Day
DESCRIPTION:Free event for our Military families and their friends. Games\, music\, food\, face painting\, bounce houses and much more...
X-ALT-DESC;FMTTYPE=text/html:Free event for our Military families and their friends. Games\, music\, food\, face painting\, bounce houses and much more...
LOCATION:Atlantic Marine Corps Communities Welcome Center - 600 Laurel Bay Road
UID:e.1212.4971
SEQUENCE:3
DTSTAMP:20260421T200614Z
URL:http://business.beaufortchamber.org/events/details/military-appreciation-day-09-07-2013-4971
END:VEVENT

END:VCALENDAR
