BEGIN:VCALENDAR
VERSION:2.0
PRODID:-//ChamberMaster//Event Calendar 2.0//EN
METHOD:PUBLISH
X-PUBLISHED-TTL:P3D
REFRESH-INTERVAL:P3D
CALSCALE:GREGORIAN
BEGIN:VEVENT
DTSTART:20120908T150000Z
DTEND:20120908T190000Z
X-MICROSOFT-CDO-ALLDAYEVENT:FALSE
SUMMARY:Military Appreciation Day
DESCRIPTION:FREE fun for all military\, family and friends\n\n\n\nFood\, drinks\, children's games\, music and more!\n\n\n\nCome join us as we give special thanks to our local military for all they do for their country and community.
X-ALT-DESC;FMTTYPE=text/html:<b>FREE</b> fun for all military\, family and friends<br />\n<br />\nFood\, drinks\, children&#39\;s games\, music and more!<br />\n<br />\nCome join us as we give special thanks to our local military for all they do for their country and community.
LOCATION:TriCommand Communties - Laurel Bay
UID:e.1212.4549
SEQUENCE:3
DTSTAMP:20260422T163423Z
URL:http://business.beaufortchamber.org/events/details/military-appreciation-day-09-08-2012-4549
END:VEVENT

END:VCALENDAR
