BEGIN:VCALENDAR
VERSION:2.0
PRODID:-//ChamberMaster//Event Calendar 2.0//EN
METHOD:PUBLISH
X-PUBLISHED-TTL:P3D
REFRESH-INTERVAL:P3D
CALSCALE:GREGORIAN
BEGIN:VEVENT
DTSTART;VALUE=DATE:20090723
DTEND;VALUE=DATE:20090724
TRANSP:TRANSPARENT
X-MICROSOFT-CDO-ALLDAYEVENT:TRUE
SUMMARY:Milspeak Book Signing - Scars on My Heart
DESCRIPTION:Edited by Sally Drumm\, this book is about warriors\, veterans\, family and friends writing the "Military Experience".   Please join Dr. John Blair\, for a reading and staged by the Rogues & Vacaboundes Players.  Following this presentation each night join them for a book signing reception with the editors and writers.  Come by and get your signed copy !
X-ALT-DESC;FMTTYPE=text/html:Edited by Sally Drumm\, this book is about warriors\, veterans\, family and friends writing the "Military Experience".   Please join Dr. John Blair\, for a reading and staged by the Rogues & Vacaboundes Players.  Following this presentation each night join them for a book signing reception with the editors and writers.  Come by and get your signed copy !
LOCATION:
UID:e.1212.3368
SEQUENCE:3
DTSTAMP:20260425T025056Z
URL:http://business.beaufortchamber.org/events/details/milspeak-book-signing-scars-on-my-heart-07-23-2009-3368
END:VEVENT

END:VCALENDAR
