BEGIN:VCALENDAR
VERSION:2.0
PRODID:-//ChamberMaster//Event Calendar 2.0//EN
METHOD:PUBLISH
X-PUBLISHED-TTL:P3D
REFRESH-INTERVAL:P3D
CALSCALE:GREGORIAN
BEGIN:VEVENT
DTSTART;VALUE=DATE:20090813
DTEND;VALUE=DATE:20090814
TRANSP:TRANSPARENT
X-MICROSOFT-CDO-ALLDAYEVENT:TRUE
SUMMARY:Miracle Day Treat - DQ Grill in Chill
DESCRIPTION:Come cool off and help support this wonderful cause - Miracle Day Treat for the Children's Miracle Network (CMN).  All proceeds from the sale of our "famous" Blizzards will go to help support this great organization.
X-ALT-DESC;FMTTYPE=text/html:Come cool off and help support this wonderful cause - Miracle Day Treat for the Children's Miracle Network (CMN).  All proceeds from the sale of our "famous" Blizzards will go to help support this great organization.
LOCATION:
UID:e.1212.3374
SEQUENCE:3
DTSTAMP:20260425T010803Z
URL:http://business.beaufortchamber.org/events/details/miracle-day-treat-dq-grill-in-chill-08-13-2009-3374
END:VEVENT

END:VCALENDAR
