BEGIN:VCALENDAR
VERSION:2.0
PRODID:-//ChamberMaster//Event Calendar 2.0//EN
METHOD:PUBLISH
X-PUBLISHED-TTL:P3D
REFRESH-INTERVAL:P3D
CALSCALE:GREGORIAN
BEGIN:VEVENT
DTSTART:20131217T180000Z
DTEND:20131221T220000Z
X-MICROSOFT-CDO-ALLDAYEVENT:FALSE
SUMMARY:Model Train Display
DESCRIPTION:The Beaufort Railroaders will be at the Beaufort Branch Library will their annual Model train display. The display will be open during library hours. Monday- 10-5 Tuesday- 1-8 Wednesday- 10-5 Thursday- 1-8 Friday- 1-5 Saturday- 10-5
X-ALT-DESC;FMTTYPE=text/html:The Beaufort Railroaders will be at the Beaufort Branch Library will their annual Model train display. The display will be open during library hours. Monday- 10-5 Tuesday- 1-8 Wednesday- 10-5 Thursday- 1-8 Friday- 1-5 Saturday- 10-5
LOCATION:Beaufort Branch Library
UID:e.1212.5136
SEQUENCE:3
DTSTAMP:20260421T145420Z
URL:http://business.beaufortchamber.org/events/details/model-train-display-12-17-2013-5136
END:VEVENT

END:VCALENDAR
