BEGIN:VCALENDAR
VERSION:2.0
PRODID:-//ChamberMaster//Event Calendar 2.0//EN
METHOD:PUBLISH
X-PUBLISHED-TTL:P3D
REFRESH-INTERVAL:P3D
CALSCALE:GREGORIAN
BEGIN:VEVENT
DTSTART;VALUE=DATE:20140317
DTEND;VALUE=DATE:20140318
TRANSP:TRANSPARENT
X-MICROSOFT-CDO-ALLDAYEVENT:TRUE
SUMMARY:Monday Night is Movie Night
DESCRIPTION:"GIRL ON A BICYCLE"\n\n	 \n\n	Directed and Written by Jeremy Leven (Screenwriter of "The Notebook") Starring Nora Tschirner\, Vincenzo Amato\, Paddy Considine\, Louise Monot\, St phane Debac Italy/France/Germany - Rated R - 101 minutes
X-ALT-DESC;FMTTYPE=text/html:<span style="font-family:cambria\;"><span style="font-size:13.0pt\;">&quot\;GIRL ON A BICYCLE&quot\;</span></span>\n<div>\n	&nbsp\;</div>\n<div>\n	<span style="font-family:cambria\;"><span style="font-size:13.0pt\;">Directed and Written by Jeremy Leven (Screenwriter of &quot\;The Notebook&quot\;)&#8232\;Starring Nora Tschirner\, Vincenzo Amato\, Paddy Considine\, Louise Monot\, St&eacute\;phane Debac&#8232\;Italy/France/Germany - Rated R - 101 minutes</span></span></div>\n
LOCATION:USCB - Center for the Arts 801 Carteret Street\, Beaufort SC 29902
UID:e.1212.5247
SEQUENCE:3
DTSTAMP:20260419T142729Z
URL:http://business.beaufortchamber.org/events/details/monday-night-is-movie-night-03-17-2014-5247
END:VEVENT

END:VCALENDAR
