BEGIN:VCALENDAR
VERSION:2.0
PRODID:-//ChamberMaster//Event Calendar 2.0//EN
METHOD:PUBLISH
X-PUBLISHED-TTL:P3D
REFRESH-INTERVAL:P3D
CALSCALE:GREGORIAN
BEGIN:VEVENT
DTSTART;VALUE=DATE:20140324
DTEND;VALUE=DATE:20140325
TRANSP:TRANSPARENT
X-MICROSOFT-CDO-ALLDAYEVENT:TRUE
SUMMARY:Monday Night is Movie Night
DESCRIPTION:"THE PAST"\n\n	 \n\n	A film by Asghar Farhadi  Starring B r nice B jo\, Tahar Rahim\, ALi Mosaffa  France - NR - 130 minutes - Fully subtitled
X-ALT-DESC;FMTTYPE=text/html:<span style="font-family:cambria\;"><span style="font-size:13.0pt\;">&quot\;THE PAST&quot\;</span></span>\n<div>\n	&nbsp\;</div>\n<div>\n	<span style="font-family:cambria\;"><span style="font-size:13.0pt\;">A film by Asghar Farhadi&#8232\; Starring B&eacute\;r&eacute\;nice B&eacute\;jo\, Tahar Rahim\, ALi Mosaffa&#8232\; France - NR - 130 minutes - Fully subtitled&#8232\;&nbsp\;</span></span></div>\n
LOCATION:USCB - Center for the Arts 801 Carteret Street\, Beaufort SC 29902
UID:e.1212.5248
SEQUENCE:3
DTSTAMP:20260421T121530Z
URL:http://business.beaufortchamber.org/events/details/monday-night-is-movie-night-03-24-2014-5248
END:VEVENT

END:VCALENDAR
