BEGIN:VCALENDAR
VERSION:2.0
PRODID:-//ChamberMaster//Event Calendar 2.0//EN
METHOD:PUBLISH
X-PUBLISHED-TTL:P3D
REFRESH-INTERVAL:P3D
CALSCALE:GREGORIAN
BEGIN:VEVENT
DTSTART;VALUE=DATE:20140331
DTEND;VALUE=DATE:20140401
TRANSP:TRANSPARENT
X-MICROSOFT-CDO-ALLDAYEVENT:TRUE
SUMMARY:Monday Night is Movie Night
DESCRIPTION:"ADULT WORLD" \n\n\n\nA film by Scott Coffey  Starring Emma Roberts\, John Cusack  USA - NR - 93 minutes
X-ALT-DESC;FMTTYPE=text/html:<span style="font-family:cambria\;"><span style="font-size:13.0pt\;">&quot\;ADULT WORLD&quot\;&#8232\;<br />\n<br />\nA film by Scott Coffey&#8232\; Starring Emma Roberts\, John Cusack &#8232\;USA - NR - 93 minutes</span></span>
LOCATION:USCB - Center for the Arts 801 Carteret Street\, Beaufort SC 29902
UID:e.1212.5249
SEQUENCE:3
DTSTAMP:20260419T141206Z
URL:http://business.beaufortchamber.org/events/details/monday-night-is-movie-night-03-31-2014-5249
END:VEVENT

END:VCALENDAR
