BEGIN:VCALENDAR
VERSION:2.0
PRODID:-//ChamberMaster//Event Calendar 2.0//EN
METHOD:PUBLISH
X-PUBLISHED-TTL:P3D
REFRESH-INTERVAL:P3D
CALSCALE:GREGORIAN
BEGIN:VEVENT
DTSTART:20120928T223000Z
DTEND:20120928T223000Z
X-MICROSOFT-CDO-ALLDAYEVENT:FALSE
SUMMARY:Monty Python and the Holy Grail
DESCRIPTION:Monty Python and the Holy Grail\n\n	Directed by Terry Gilliam and Terry Jones\n\n	English\, French & Latin\n\n	 \n\n	 \n\n	The classic film that inspired to current Broadway hit Spamalot returns to the big screen- for the first time EVER in high-definition! "Could this be the funniest movie ever made? By any rational measure of comedy\, this medieval romp from the Monty Python troupe certainly belongs on the short list of candidates. The sum of this madness is a movie that's beloved by anyone with a pulse and an irreverent sense of humor. If this movie doesn't make you laugh\, you're almost certainly dead."  Jeff Shannon
X-ALT-DESC;FMTTYPE=text/html:<style type="text/css">\n<!--{cke_protected}{C}%3C!%2D%2D%0D%0A%20%2F*%20Font%20Definitions%20*%2F%0D%0A%40font-face%0D%0A%09%7Bfont-family%3ATimes%3B%0D%0A%09panose-1%3A2%200%205%200%200%200%200%200%200%200%3B%0D%0A%09mso-font-charset%3A0%3B%0D%0A%09mso-generic-font-family%3Aauto%3B%0D%0A%09mso-font-pitch%3Avariable%3B%0D%0A%09mso-font-signature%3A3%200%200%200%201%200%3B%7D%0D%0A%40font-face%0D%0A%09%7Bfont-family%3A%22%26%2365325%3B%26%2365331%3B%20%26%2326126%3B%26%2326397%3B%22%3B%0D%0A%09panose-1%3A0%200%200%200%200%200%200%200%200%200%3B%0D%0A%09mso-font-charset%3A128%3B%0D%0A%09mso-generic-font-family%3Aroman%3B%0D%0A%09mso-font-format%3Aother%3B%0D%0A%09mso-font-pitch%3Afixed%3B%0D%0A%09mso-font-signature%3A1%20134676480%2016%200%20131072%200%3B%7D%0D%0A%40font-face%0D%0A%09%7Bfont-family%3A%22%26%2365325%3B%26%2365331%3B%20%26%2326126%3B%26%2326397%3B%22%3B%0D%0A%09panose-1%3A0%200%200%200%200%200%200%200%200%200%3B%0D%0A%09mso-font-charset%3A128%3B%0D%0A%09mso-generic-font-family%3Aroman%3B%0D%0A%09mso-font-format%3Aother%3B%0D%0A%09mso-font-pitch%3Afixed%3B%0D%0A%09mso-font-signature%3A1%20134676480%2016%200%20131072%200%3B%7D%0D%0A%40font-face%0D%0A%09%7Bfont-family%3ACalibri%3B%0D%0A%09panose-1%3A2%2015%205%202%202%202%204%203%202%204%3B%0D%0A%09mso-font-charset%3A0%3B%0D%0A%09mso-generic-font-family%3Aauto%3B%0D%0A%09mso-font-pitch%3Avariable%3B%0D%0A%09mso-font-signature%3A3%200%200%200%201%200%3B%7D%0D%0A%40font-face%0D%0A%09%7Bfont-family%3ACambria%3B%0D%0A%09panose-1%3A2%204%205%203%205%204%206%203%202%204%3B%0D%0A%09mso-font-charset%3A0%3B%0D%0A%09mso-generic-font-family%3Aauto%3B%0D%0A%09mso-font-pitch%3Avariable%3B%0D%0A%09mso-font-signature%3A3%200%200%200%201%200%3B%7D%0D%0A%20%2F*%20Style%20Definitions%20*%2F%0D%0Ap.MsoNormal%2C%20li.MsoNormal%2C%20div.MsoNormal%0D%0A%09%7Bmso-style-unhide%3Ano%3B%0D%0A%09mso-style-qformat%3Ayes%3B%0D%0A%09mso-style-parent%3A%22%22%3B%0D%0A%09margin%3A0in%3B%0D%0A%09margin-bottom%3A.0001pt%3B%0D%0A%09mso-pagination%3Awidow-orphan%3B%0D%0A%09font-size%3A12.0pt%3B%0D%0A%09font-family%3ACambria%3B%0D%0A%09mso-ascii-font-family%3ACambria%3B%0D%0A%09mso-ascii-theme-font%3Aminor-latin%3B%0D%0A%09mso-fareast-font-family%3A%22%26%2365325%3B%26%2365331%3B%20%26%2326126%3B%26%2326397%3B%22%3B%0D%0A%09mso-fareast-theme-font%3Aminor-fareast%3B%0D%0A%09mso-hansi-font-family%3ACambria%3B%0D%0A%09mso-hansi-theme-font%3Aminor-latin%3B%0D%0A%09mso-bidi-font-family%3A%22Times%20New%20Roman%22%3B%0D%0A%09mso-bidi-theme-font%3Aminor-bidi%3B%7D%0D%0A.MsoChpDefault%0D%0A%09%7Bmso-style-type%3Aexport-only%3B%0D%0A%09mso-default-props%3Ayes%3B%0D%0A%09font-family%3ACambria%3B%0D%0A%09mso-ascii-font-family%3ACambria%3B%0D%0A%09mso-ascii-theme-font%3Aminor-latin%3B%0D%0A%09mso-fareast-font-family%3A%22%26%2365325%3B%26%2365331%3B%20%26%2326126%3B%26%2326397%3B%22%3B%0D%0A%09mso-fareast-theme-font%3Aminor-fareast%3B%0D%0A%09mso-hansi-font-family%3ACambria%3B%0D%0A%09mso-hansi-theme-font%3Aminor-latin%3B%0D%0A%09mso-bidi-font-family%3A%22Times%20New%20Roman%22%3B%0D%0A%09mso-bidi-theme-font%3Aminor-bidi%3B%7D%0D%0A%40page%20WordSection1%0D%0A%09%7Bsize%3A8.5in%2011.0in%3B%0D%0A%09margin%3A1.0in%201.25in%201.0in%201.25in%3B%0D%0A%09mso-header-margin%3A.5in%3B%0D%0A%09mso-footer-margin%3A.5in%3B%0D%0A%09mso-paper-source%3A0%3B%7D%0D%0Adiv.WordSection1%0D%0A%09%7Bpage%3AWordSection1%3B%7D%0D%0A%2D%2D%3E--></style>\n<p class="MsoNormal">\n	<span style="font-family: times\; font-size: 10pt\; mso-fareast-font-family: 'times new roman'\; mso-bidi-font-family: 'times new roman'">Monty Python and the Holy Grail<br />\n	Directed by Terry Gilliam and Terry Jones</span></p>\n<p class="MsoNormal">\n	<span style="font-family: times\; font-size: 10pt\; mso-fareast-font-family: 'times new roman'\; mso-bidi-font-family: 'times new roman'">English\, French &amp\; Latin</span></p>\n<p class="MsoNormal">\n	&nbsp\;</p>\n<p class="MsoNormal">\n	<span style="font-family: calibri\; font-size: 15pt\; mso-bidi-font-family: calibri">&nbsp\;</span></p>\n<p class="MsoNormal">\n	<span style="mso-fareast-font-family: 'times new roman'\; mso-bidi-font-family: 'times new roman'">The classic film that inspired to current Broadway hit Spamalot returns to the big screen- for the first time EVER in high-definition! &ldquo\;Could this be the funniest movie ever made? By any rational measure of comedy\, this medieval romp from the Monty Python troupe certainly belongs on the short list of candidates. The sum of this madness is a movie that&rsquo\;s beloved by anyone with a pulse and an irreverent sense of humor. If this movie doesn&rsquo\;t make you laugh\, you&rsquo\;re almost certainly dead.&rdquo\; &ndash\;Jeff Shannon</span></p>\n<p class="MsoNormal">\n	<span style="mso-fareast-font-family: 'times new roman'\; mso-bidi-font-family: 'times new roman'">&nbsp\;</span></p>\n
LOCATION:USCB Center for the Arts 801 Carteret Street Beaufort SC 29902
UID:e.1212.4628
SEQUENCE:3
DTSTAMP:20260422T162848Z
URL:http://business.beaufortchamber.org/events/details/monty-python-and-the-holy-grail-09-28-2012-4628
END:VEVENT

END:VCALENDAR
