BEGIN:VCALENDAR
VERSION:2.0
PRODID:-//ChamberMaster//Event Calendar 2.0//EN
METHOD:PUBLISH
X-PUBLISHED-TTL:P3D
REFRESH-INTERVAL:P3D
CALSCALE:GREGORIAN
BEGIN:VEVENT
DTSTART;VALUE=DATE:20090127
DTEND;VALUE=DATE:20090128
TRANSP:TRANSPARENT
X-MICROSOFT-CDO-ALLDAYEVENT:TRUE
SUMMARY:Motivate Employees through Teamwork
DESCRIPTION:Dr. Sam Adams of the University of Wisconsin will be presenting "How businesses can save delivery of service time and motivate employees to improve their work through teamwork".  In this seminar\, expect to:\n* Learn the value of teamwork within an organization so that employees will eagerly take on more responsibility\n*  Be able to understand and apply these principles to improve employee morale and help achieve company goals.\n*  Statistically demonstrate to all members of the organization how these principls and practices make sound management sense.
X-ALT-DESC;FMTTYPE=text/html:Dr. Sam Adams of the University of Wisconsin will be presenting "How businesses can save delivery of service time and motivate employees to improve their work through teamwork".  In this seminar\, expect to:\n* Learn the value of teamwork within an organization so that employees will eagerly take on more responsibility\n*  Be able to understand and apply these principles to improve employee morale and help achieve company goals.\n*  Statistically demonstrate to all members of the organization how these principls and practices make sound management sense.
LOCATION:
UID:e.1212.2879
SEQUENCE:3
DTSTAMP:20260425T124908Z
URL:http://business.beaufortchamber.org/events/details/motivate-employees-through-teamwork-01-27-2009-2879
END:VEVENT

END:VCALENDAR
