BEGIN:VCALENDAR
VERSION:2.0
PRODID:-//ChamberMaster//Event Calendar 2.0//EN
METHOD:PUBLISH
X-PUBLISHED-TTL:P3D
REFRESH-INTERVAL:P3D
CALSCALE:GREGORIAN
BEGIN:VEVENT
DTSTART:20120519T230000Z
DTEND:20120519T230000Z
X-MICROSOFT-CDO-ALLDAYEVENT:FALSE
SUMMARY:Music at St. Helena's
DESCRIPTION:A Choir Festival led by Brian Jones\, emeritus director of music at\n\nTrinity Church\, Boston\, will be the final spring concert of The Parish\n\nChurch of St. Helena (Episcopal)\, 505 Church Street in Beaufort at 7\n\npm on Saturday\, May 19th.\n\n\n\nJoining the choirs of St. Helena's will be members of the choirs from\n\nthe Church of the Cross\, Bluffton and St. John's\, Charlotte\, NC.\n\n\n\nNoted choral director Brian Jones served at Trinity Church\, Copley\n\nSquare\, Boston\, where he directed a highly acclaimed program from\n\n1984-2004. He has appeared as an organ solo artist throughout the\n\nUnited States\, England\, Canada\, and Bermuda. His programs have been\n\npraised for their variety and color\, as well as for the depth of his\n\nmusicianship and his passionate commitment to the organ as a concert\n\ninstrument of significant interest. He is a graduate of Oberlin\n\nCollege Conservatory of Music and Boston University. He studied choral\n\ndirecting with Robert Fountain.\n\n\n\nThis will be concluding concert of the local church's Tricentennial\n\nCelebration spring music series.\n\n\n\nFor more information\, contact Pat Gould\, the music director at the\n\nchurch\, at patgould@islc.net or 843-522-1712 or visit\n\nwww.sthelenas1712.org.
X-ALT-DESC;FMTTYPE=text/html:A Choir Festival led by Brian Jones\, emeritus director of music at<br />\nTrinity Church\, Boston\, will be the final spring concert of The Parish<br />\nChurch of St. Helena (Episcopal)\, 505 Church Street in Beaufort at 7<br />\npm on Saturday\, May 19th.<br />\n<br />\nJoining the choirs of St. Helena&#39\;s will be members of the choirs from<br />\nthe Church of the Cross\, Bluffton and St. John&rsquo\;s\, Charlotte\, NC.<br />\n<br />\nNoted choral director Brian Jones served at Trinity Church\, Copley<br />\nSquare\, Boston\, where he directed a highly acclaimed program from<br />\n1984-2004. He has appeared as an organ solo artist throughout the<br />\nUnited States\, England\, Canada\, and Bermuda. His programs have been<br />\npraised for their variety and color\, as well as for the depth of his<br />\nmusicianship and his passionate commitment to the organ as a concert<br />\ninstrument of significant interest. He is a graduate of Oberlin<br />\nCollege Conservatory of Music and Boston University. He studied choral<br />\ndirecting with Robert Fountain.<br />\n<br />\nThis will be concluding concert of the local church&#39\;s Tricentennial<br />\nCelebration spring music series.<br />\n<br />\nFor more information\, contact Pat Gould\, the music director at the<br />\nchurch\, at <a href="wlmailhtml:%7BBFD00C55-AE0F-48A1-8B20-70D0E4860FB8%7Dmid://00000088/%21x-usc:mailto:patgould@islc.net">patgould@islc.net</a> or 843-522-1712 or visit<br />\n<a href="wlmailhtml:%7BBFD00C55-AE0F-48A1-8B20-70D0E4860FB8%7Dmid://00000088/%21x-usc:http://www.sthelenas1712.org/">www.sthelenas1712.org</a>.<br />\n
LOCATION:The Parish Church of St. Helena (Episcopal)\, 505 Church Street\, Beaufort
UID:e.1212.4528
SEQUENCE:3
DTSTAMP:20260422T221929Z
URL:http://business.beaufortchamber.org/events/details/music-at-st-helena-s-05-19-2012-4528
END:VEVENT

END:VCALENDAR
