BEGIN:VCALENDAR
VERSION:2.0
PRODID:-//ChamberMaster//Event Calendar 2.0//EN
METHOD:PUBLISH
X-PUBLISHED-TTL:P3D
REFRESH-INTERVAL:P3D
CALSCALE:GREGORIAN
BEGIN:VEVENT
DTSTART;VALUE=DATE:20091017
DTEND;VALUE=DATE:20091018
TRANSP:TRANSPARENT
X-MICROSOFT-CDO-ALLDAYEVENT:TRUE
SUMMARY:Music at St. Helena's - Choir Festival
DESCRIPTION:Join Conductor Arlen Clarke\, Assistant/Choirmaster at St. Mary's Catholic Church in Greenville\, SC as he presents an evening of beautiful music.  He has conducted choirs and orchestras in well known works such as Messiah and Elijah\, several Mozart Masses\, Brahms' and Verid's Requiem and Vaughan-Williams' Hodie.  There will be 80 plus singers from the Parish Church of St. Helena\, St. Peter's Catholic Church and Church of the Cross. Come hear the fine music of Beethoven\, Handel\, Parry\, Mendelssohn\, Faure\, Bach\, Clarke and more.\nCost:  Free and open to the public\nConcerts are presented solely by private donations from parishioners and music lovers all over the Lowcountry.  Consider joining today ! To find out how you can become a "Friend of Music" give us a call @ ext 214
X-ALT-DESC;FMTTYPE=text/html:Join Conductor Arlen Clarke\, Assistant/Choirmaster at St. Mary's Catholic Church in Greenville\, SC as he presents an evening of beautiful music.  He has conducted choirs and orchestras in well known works such as Messiah and Elijah\, several Mozart Masses\, Brahms' and Verid's Requiem and Vaughan-Williams' Hodie.  There will be 80 plus singers from the Parish Church of St. Helena\, St. Peter's Catholic Church and Church of the Cross. Come hear the fine music of Beethoven\, Handel\, Parry\, Mendelssohn\, Faure\, Bach\, Clarke and more.\nCost:  Free and open to the public\nConcerts are presented solely by private donations from parishioners and music lovers all over the Lowcountry.  Consider joining today ! To find out how you can become a "Friend of Music" give us a call @ ext 214
LOCATION:
UID:e.1212.3603
SEQUENCE:3
DTSTAMP:20260424T221844Z
URL:http://business.beaufortchamber.org/events/details/music-at-st-helena-s-choir-festival-10-17-2009-3603
END:VEVENT

END:VCALENDAR
