BEGIN:VCALENDAR
VERSION:2.0
PRODID:-//ChamberMaster//Event Calendar 2.0//EN
METHOD:PUBLISH
X-PUBLISHED-TTL:P3D
REFRESH-INTERVAL:P3D
CALSCALE:GREGORIAN
BEGIN:VEVENT
DTSTART:20130412T160000Z
DTEND:20130412T170000Z
X-MICROSOFT-CDO-ALLDAYEVENT:FALSE
SUMMARY:Music at St Helena's Church - Beaufort
DESCRIPTION:Friday Organ Concerts at Noon - Parish Church of St. Helena\, Beaufort                 - Friday\, April 12\, 2013\n\nDr. Julia Harlow of Second Presbyterian Church\, Charleston\, SC performing\n\n\n\nConcerts last approximately 50 minutes and are free and open to the public\n\n\n\nAbout the artist.  Dr. Julia Harlow is director of music and organist at Second Presbyterian Church in Charleston and teaches organ and harpsichord at the College of Charleston. She also taught music history\,  ear training\, keyboard harmony\, and music appreciation. \n\n \n\nOriginally from Iowa City\, Iowa\, she lived in the Pacific Northwest before coming to the Lowcountry 16 years ago. She earned the Doctor of Musical Arts in Organ Performance and Pedagogy and Master of Music in Early Keyboard Performance degrees at the University of Oregon (Eugene)\, and the Bachelor of Music in Organ Performance from the University of Iowa. \n\n \n\nHer teachers have been Delbert Disselhorst (organ)\, Guy Bovet and John Hamilton (organ and harpsichord)\, and Joan Benson (clavichord). She has performed in master classes and concerts in Germany\, Holland\, and Canada for Gustav Leonhardt\, Colin Tilney\, and Harald Vogel. In addition to performing as a harpsichordist\, she also tunes and maintains several instruments in the Charleston area. \n\n \n\nShe has extensive performance experience of early music\, Celtic\, Balkan\, and Middle Eastern folk music and has often performed as harpsichordist or organist at the College of Charleston\, in Piccolo Spoleto\, with the Charleston Symphony\, and Chamber Music Charleston. \n\n \n\nIn June\, 2010 she formed the ensemble "La Belle Musique" which performs music of the 17th and 18th centuries\, notably that of women composers.
X-ALT-DESC;FMTTYPE=text/html:Friday Organ Concerts at Noon - Parish Church of St.&nbsp\;Helena\, Beaufort&nbsp\;&nbsp\;&nbsp\;&nbsp\;&nbsp\;&nbsp\;&nbsp\;&nbsp\;&nbsp\;&nbsp\;&nbsp\;&nbsp\;&nbsp\;&nbsp\;&nbsp\; &nbsp\;- Friday\, April 12\, 2013<br />\nDr. Julia Harlow of Second Presbyterian Church\, Charleston\, SC performing<br />\n<br />\nConcerts last approximately 50 minutes and are free and open to the public<br />\n<br />\n<span style="font-family: times new roman\;"><strong><span style="font-size: 10pt\;"><span style="color: rgb(102\, 0\, 0)\;">About the artist.</span></span></strong></span>&nbsp\; <span style="font-size: 10pt\;"><span style="font-family: arial\,sans-serif\;"><span style="color: rgb(134\, 49\, 66)\;">Dr. Julia Harlow is director of music and organist at Second Presbyterian Church in Charleston and teaches organ and harpsichord at the College of Charleston. She also taught music history\, </span></span></span> <span style="font-size: 10pt\;"><span style="font-family: arial\,sans-serif\;"><span style="color: rgb(134\, 49\, 66)\;">ear training\, keyboard harmony\, and music appreciation. </span></span></span><br />\n&nbsp\;<br />\n<span style="font-size: 10pt\;"><span style="font-family: arial\,sans-serif\;"><span style="color: rgb(134\, 49\, 66)\;">Originally from Iowa City\, Iowa\, she lived in the Pacific Northwest before coming to the Lowcountry 16 years ago. She earned the Doctor of Musical Arts in Organ Performance and Pedagogy and Master of Music in Early Keyboard Performance degrees at the University of Oregon (Eugene)\, and the Bachelor of Music in Organ Performance from the University of Iowa. </span></span></span><br />\n&nbsp\;<br />\n<span style="font-size: 10pt\;"><span style="font-family: arial\,sans-serif\;"><span style="color: rgb(134\, 49\, 66)\;">Her teachers have been Delbert Disselhorst (organ)\, Guy Bovet and John Hamilton (organ and harpsichord)\, and Joan Benson (clavichord). She has performed in master classes and concerts in Germany\, Holland\, and Canada for Gustav Leonhardt\, Colin Tilney\, and Harald Vogel. In addition to performing as a harpsichordist\, she also tunes and maintains several instruments in the Charleston area. </span></span></span><br />\n&nbsp\;<br />\n<span style="font-size: 10pt\;"><span style="font-family: arial\,sans-serif\;"><span style="color: rgb(134\, 49\, 66)\;">She has extensive performance experience of early music\, Celtic\, Balkan\, and Middle Eastern folk music and has often performed as harpsichordist or organist at the College of Charleston\, in Piccolo Spoleto\, with the Charleston Symphony\, and Chamber Music Charleston. </span></span></span><br />\n&nbsp\;<br />\n<span style="font-size: 10pt\;"><span style="font-family: arial\,sans-serif\;"><span style="color: rgb(134\, 49\, 66)\;">In June\, 2010 she formed the ensemble &ldquo\;La Belle Musique&rdquo\; which performs music of the 17th and 18th centuries\, notably that of women composers.</span></span></span>
LOCATION:Parish Church of St. Helena's - Newcastle Street\, Beaufort\, SC
UID:e.1212.4966
SEQUENCE:3
DTSTAMP:20260422T070313Z
URL:http://business.beaufortchamber.org/events/details/music-at-st-helena-s-church-beaufort-04-12-2013-4966
END:VEVENT

END:VCALENDAR
