BEGIN:VCALENDAR
VERSION:2.0
PRODID:-//ChamberMaster//Event Calendar 2.0//EN
METHOD:PUBLISH
X-PUBLISHED-TTL:P3D
REFRESH-INTERVAL:P3D
CALSCALE:GREGORIAN
BEGIN:VEVENT
DTSTART:20121019T160000Z
DTEND:20121019T170000Z
X-MICROSOFT-CDO-ALLDAYEVENT:FALSE
SUMMARY:Music at St. Helena's - Friday Organ Concert Series
DESCRIPTION:This year\, the Parish Church of St. Helena is celebrating its Tricentennial (1712-2012). Concerts will be on Fridays at 12 p.m. Four of St. Helena's former organists will return to play the magnificent Taylor and Boody organ that we enjoy each Sunday. The music offered at these concerts is world class.   Dr. Adrienne Olson will be performing and is director of music and organist for Grace Episcopal Church in Chattanooga  .
X-ALT-DESC;FMTTYPE=text/html:<p align="left">\n	<span style="font-family: arial">This year\, the Parish Church of St. Helena is celebrating its Tricentennial (1712-2012). Concerts will be on Fridays at 12 p.m. Four of St. Helena&rsquo\;s former organists will return to play the magnificent Taylor and Boody organ that we enjoy each Sunday. The music offered at these concerts is world class.&nbsp\;&nbsp\;<span _fck_bookmark="1" style="display: none">&nbsp\;</span>Dr. Adrienne Olson will be performing and&nbsp\;is director of music and organist for Grace Episcopal Church in Chattanooga<span _fck_bookmark="1" style="display: none">&nbsp\;</span><span _fck_bookmark="1" style="display: none">&nbsp\;</span>.</span><span _fck_bookmark="1" style="display: none">&nbsp\;</span></p>\n
LOCATION:
UID:e.1212.4620
SEQUENCE:3
DTSTAMP:20260422T164013Z
URL:http://business.beaufortchamber.org/events/details/music-at-st-helena-s-friday-organ-concert-series-10-19-2012-4620
END:VEVENT

END:VCALENDAR
