BEGIN:VCALENDAR
VERSION:2.0
PRODID:-//ChamberMaster//Event Calendar 2.0//EN
METHOD:PUBLISH
X-PUBLISHED-TTL:P3D
REFRESH-INTERVAL:P3D
CALSCALE:GREGORIAN
BEGIN:VEVENT
DTSTART:20121026T160000Z
DTEND:20121026T170000Z
X-MICROSOFT-CDO-ALLDAYEVENT:FALSE
SUMMARY:Music at St. Helena's - Friday Organ Concerts
DESCRIPTION:Music at St. Helena's\n\nFriday\, October 26\, 2012 @ Noon\n\n \n\n Anne Marcure\n\norganist\,\n\nretired director of music ministries\n\nSt. Stephen's Parish (Episcopal)\,\n\nPittsfield\, MA\n\n\n\n \n\nPerforming\n\nat The Parish Church of St. Helena\, \n\n505 Church Street\n\nBeaufort\, SC\n\n \n\nConcerts are free and open to the public.
X-ALT-DESC;FMTTYPE=text/html:<strong><span style="font-size: 22pt"><span style="color: navy"><span style="font-family: calisto mt\, serif">Music at St. Helena&rsquo\;s</span></span></span></strong><br />\n<em><strong><span style="font-size: 14pt"><span style="color: black"><span style="font-family: times new roman">Friday\, October 26\, 2012 @ Noon</span></span></span></strong></em><br />\n&nbsp\;<br />\n&nbsp\;<strong><span style="font-size: 18pt"><span style="color: black"><span style="font-family: tahoma\, sans-serif">Anne Marcure</span></span></span></strong><br />\n<strong><span style="font-size: 14pt"><span style="color: black"><span style="font-family: calisto mt\, serif">organist\,</span></span></span></strong><br />\n<span style="font-size: 14pt"><span style="color: black"><span style="font-family: calisto mt\, serif">retired director of music ministries<br />\nSt. Stephen&rsquo\;s Parish (Episcopal)\,</span></span></span><br />\n<span style="font-size: 14pt"><span style="color: black"><span style="font-family: calisto mt\, serif">Pittsfield\, MA</span></span></span><br />\n<br />\n&nbsp\;<br />\n<strong><span style="font-size: 13.5pt"><span style="color: black"><span style="font-family: calisto mt\, serif">Performing</span></span></span></strong><br />\n<strong><span style="font-size: 13.5pt"><span style="color: black"><span style="font-family: calisto mt\, serif"><strong><span style="font-family: calisto mt\, serif">at The Parish Church of St. Helena\, </span></strong></span></span></span></strong><br />\n<strong><span style="font-size: 13.5pt"><span style="color: black"><span style="font-family: calisto mt\, serif">505 Church Street</span></span></span></strong><br />\n<strong><span style="font-size: 13.5pt"><span style="color: black"><span style="font-family: calisto mt\, serif"><strong><span style="font-family: calisto mt\, serif">Beaufort\, SC</span></strong></span></span></span></strong><br />\n&nbsp\;<br />\n<span style="color: black"><span style="font-size: medium"><span style="font-family: times new roman">Concerts are free and open to the public.</span></span></span><br />\n
LOCATION:
UID:e.1212.4621
SEQUENCE:3
DTSTAMP:20260422T164151Z
URL:http://business.beaufortchamber.org/events/details/music-at-st-helena-s-friday-organ-concerts-10-26-2012-4621
END:VEVENT

END:VCALENDAR
