BEGIN:VCALENDAR
VERSION:2.0
PRODID:-//ChamberMaster//Event Calendar 2.0//EN
METHOD:PUBLISH
X-PUBLISHED-TTL:P3D
REFRESH-INTERVAL:P3D
CALSCALE:GREGORIAN
BEGIN:VEVENT
DTSTART:20130315T160000Z
DTEND:20130315T170000Z
X-MICROSOFT-CDO-ALLDAYEVENT:FALSE
SUMMARY:Music at St. Helena's - Friday Organ Concerts at Noon
DESCRIPTION:First concert in Spring Series!\n\n \n\n\n\nFriday Organ Concerts at Noon\n\nFriday\, March 15\, 2013\n\n \n\n \n\nGail Archer\n\nInternational Concert Artist\,\n\nNew York City\, NY\n\n\n\n \n\nPerforming\n\nat The Parish Church of St. Helena\, Beaufort\n\n \n\nConcerts last approximately 50 minutes\n\nand are free and open to the public.\n\n \n\n \n\n \n\n \n\n\n	\n		\n			\n				\n\n				About the artist.  Gail Archer returns for her sixth concert since 2003 given on the church's Taylor & Boody organ. The international concert organist travels to about fifty concert venues a year\, her travels each year include England\, Poland\, Germany\, Hungary\, France\, the Low Countries\, and Italy as well as locations across the United States.\n\n				 \n\n				In addition\, her busy schedule includes being a recording artist\, choral conductor\, and lecturer. Ms. Archer was the first American woman to play the complete works of Olivier Messiaen for the centennial of the composer's birth in 2008\; Time-Out New York recognized the Messiaen cycle as "Best of 2008" in classical music and opera. \n\n				 \n\n				Her recordings include Franz Liszt\, A Hungarian Rhapsody\; Bach\, The Transcendent Genius\; An American Idyll\; A Mystic in the Making on Meyer-Media\; and The Orpheus of Amsterdam\, Sweelinck and His Pupils on CALA Records\, London.\n\n				 \n\n				Ms. Archer is college organist at Vassar College and director of the music program at Barnard College\, Columbia University\, where she conducts the Barnard-Columbia Chorus. She serves as director of the artist and young organ artist recitals at historic Central Synagogue\, New York City.\n		\n	\n\n\n	 \n \n\nPlease join us for this fabulous organ concert this coming Friday\, March 15 at Noon. Gail is one of the most confident organists I have ever had the honor to hear. Her playing is full of fire! You will not be disappointed! Come early and enjoy and tour of our historic church. Free parking is available in the church lot at the corner of Church and King Streets (entrance on King Street).
X-ALT-DESC;FMTTYPE=text/html:<strong><span style="color: red\;"><span style="font-size: 18pt\;">First concert in Spring Series!</span></span></strong><br />\n&nbsp\;<br />\n<br />\n<strong><span style="color: rgb(0\, 0\, 102)\;"><span style="font-family: calisto mt\,serif\;"><span style="font-size: 22pt\;">Friday Organ Concerts at Noon</span></span></span></strong><br />\n<em><strong><span style="color: black\;"><span style="font-size: 18pt\;">Friday\, March 15\, 2013</span></span></strong></em><br />\n&nbsp\;<br />\n&nbsp\;<br />\n<strong><span style="color: black\;"><span style="font-family: calisto mt\,serif\;"><span style="font-size: 18pt\;">Gail Archer</span></span></span></strong><br />\n<span style="color: black\;"><span style="font-family: calisto mt\,serif\;"><span style="font-size: 13.5pt\;">International Concert Artist\,</span></span></span><br />\n<span style="color: black\;"><span style="font-family: calisto mt\,serif\;"><span style="font-size: 13.5pt\;">New York City\, NY</span></span></span><br />\n<br />\n&nbsp\;<br />\n<strong><span style="color: black\;"><span style="font-family: calisto mt\,serif\;"><span style="font-size: 13.5pt\;">Performing</span></span></span></strong><br />\n<strong><span style="color: black\;"><span style="font-family: calisto mt\,serif\;"><span style="font-size: 13.5pt\;"><strong><span style="font-family: calisto mt\,serif\;">at The Parish Church of St. Helena\, Beaufort</span></strong></span></span></span></strong><br />\n&nbsp\;<br />\n<span style="color: black\;">Concerts last approximately 50 minutes<br />\nand are free and open to the public.</span><br />\n&nbsp\;<br />\n&nbsp\;<br />\n&nbsp\;<br />\n&nbsp\;<br />\n<table align="center" border="1" cellpadding="0" cellspacing="0" style="border: currentColor\; width: 437px\; border-collapse: collapse\;" width="437">\n	<tbody>\n		<tr>\n			<td style="padding: 0in 5.4pt\; border: 1pt solid windowtext\; width: 590px\; vertical-align: top\;">\n				<br />\n				<strong><span style="color: rgb(102\, 0\, 0)\;"><span style="font-size: 10pt\;">About the artist.</span></span></strong>&nbsp\; <span style="color: rgb(134\, 49\, 66)\;"><span style="font-family: arial\,sans-serif\;"><span style="font-size: 10pt\;">Gail Archer returns for her sixth concert since 2003 given on the church&rsquo\;s Taylor &amp\; Boody organ. The international concert organist travels to about fifty concert venues a year\, her travels each year include England\, Poland\, Germany\, Hungary\, France\, the Low </span></span></span><span style="color: rgb(134\, 49\, 66)\;"><span style="font-family: arial\,sans-serif\;"><span style="font-size: 10pt\;">Countries\, and Italy as well as locations across the United States.</span></span></span><br />\n				&nbsp\;<br />\n				<span style="color: rgb(134\, 49\, 66)\;"><span style="font-family: arial\,sans-serif\;"><span style="font-size: 10pt\;">In addition\, her busy schedule includes being a recording artist\, choral conductor\, and lecturer. Ms. Archer was the first American woman to play the complete works of Olivier Messiaen for the centennial of the composer&rsquo\;s birth in 2008\; <em><span style="font-family: arial\,sans-serif\;">Time-Out New York</span></em></span> recognized the Messiaen cycle as &ldquo\;Best of 2008&rdquo\; in classical music and opera. </span></span><br />\n				&nbsp\;<br />\n				<span style="color: rgb(134\, 49\, 66)\;"><span style="font-family: arial\,sans-serif\;"><span style="font-size: 10pt\;">Her recordings include <em><span style="font-family: arial\,sans-serif\;">Franz Liszt\, A Hungarian Rhapsody</span></em></span>\; <em><span style="font-family: arial\,sans-serif\;">Bach\, The Transcendent Genius</span></em></span>\;<em><span style="font-family: arial\,sans-serif\;"> An American Idyll\; A Mystic in the Making</span></em></span> on Meyer-Media\; and <em><span style="font-family: arial\,sans-serif\;">The Orpheus of Amsterdam\, Sweelinck and His Pupils</span></em> on CALA Records\, London.<br />\n				&nbsp\;<br />\n				<span style="color: rgb(134\, 49\, 66)\;"><span style="font-family: arial\,sans-serif\;"><span style="font-size: 10pt\;">Ms. Archer is college organist at Vassar College and director of the music program at Barnard College\, Columbia University\, where she conducts the Barnard-Columbia Chorus. She serves as director of the artist and young organ artist recitals at historic Central Synagogue\, New York City.</span></span></span></td>\n		</tr>\n	</tbody>\n</table>\n<div style="clear: both\;">\n	&nbsp\;</div>\n&nbsp\;<br />\n<span style="color: black\;"><span style="font-family: calibri\,sans-serif\;">Please join us for this fabulous organ concert this coming Friday\, March 15 at Noon. Gail is one of the most confident organists I have ever had the honor to hear. Her playing is full of fire! You will not be disappointed! Come early and enjoy and tour of our historic church. Free parking is available in the church lot at the corner of Church and King Streets (entrance on King Street).</span></span><br />\n&nbsp\;
LOCATION:Parish Church of St. Helena\, Beaufort SC
UID:e.1212.4939
SEQUENCE:3
DTSTAMP:20260422T070309Z
URL:http://business.beaufortchamber.org/events/details/music-at-st-helena-s-friday-organ-concerts-at-noon-03-15-2013-4939
END:VEVENT

END:VCALENDAR
