BEGIN:VCALENDAR
VERSION:2.0
PRODID:-//ChamberMaster//Event Calendar 2.0//EN
METHOD:PUBLISH
X-PUBLISHED-TTL:P3D
REFRESH-INTERVAL:P3D
CALSCALE:GREGORIAN
BEGIN:VEVENT
DTSTART;VALUE=DATE:20091030
DTEND;VALUE=DATE:20091031
TRANSP:TRANSPARENT
X-MICROSOFT-CDO-ALLDAYEVENT:TRUE
SUMMARY:Music at St. Helena's - 'Friday Organ Concerts at Noon'
DESCRIPTION:Featuring the Taylor & Boody Organ - Opus 11\, 1985\nPresenting will be Charles Tompkins\, Greenville\, South Carolina\nCost:  Free and open to the public\nConcerts are presented solely by private donations from parishioners and music lovers all over the Lowcountry.  Consider joining today ! To find out how you can become a "Friend of Music" give us a call @ ext 214
X-ALT-DESC;FMTTYPE=text/html:Featuring the Taylor & Boody Organ - Opus 11\, 1985\nPresenting will be Charles Tompkins\, Greenville\, South Carolina\nCost:  Free and open to the public\nConcerts are presented solely by private donations from parishioners and music lovers all over the Lowcountry.  Consider joining today ! To find out how you can become a "Friend of Music" give us a call @ ext 214
LOCATION:
UID:e.1212.3600
SEQUENCE:3
DTSTAMP:20260424T221845Z
URL:http://business.beaufortchamber.org/events/details/music-at-st-helena-s-friday-organ-concerts-at-noon-10-30-2009-3600
END:VEVENT

END:VCALENDAR
