BEGIN:VCALENDAR
VERSION:2.0
PRODID:-//ChamberMaster//Event Calendar 2.0//EN
METHOD:PUBLISH
X-PUBLISHED-TTL:P3D
REFRESH-INTERVAL:P3D
CALSCALE:GREGORIAN
BEGIN:VEVENT
DTSTART:20120330T230000Z
DTEND:20120331T010000Z
X-MICROSOFT-CDO-ALLDAYEVENT:FALSE
SUMMARY:Music at St. Helena's Organ Concert
DESCRIPTION:Organist Rhonda Sider Edgington\, of Holland\, MI\, will give a free performance at the Parish Church of St. Helena (Episcopal)\, 505 Church Street\, Beaufort\, SC on Friday\, March 30th at 7 p.m.\n\n	 \n\n	This will be the first evening organ recital scheduled by the church as part of its Tricentennial Celebration (1712   2012) Spring Concert Series. Edgington lived in Bremen\, Germany\, from 2004 to 2011. She arrived with a Fulbright Scholarship to study the organs and music of North Germany. Throughout her years in Germany\, she performed recitals ranging from 17th century organs to German Romantic instruments and modern organs as well.\n\n	 \n\n	After living in Bremen\, Germany for seven years\, she moved recently with her husband Mark\, and children Isaac and Esther to Holland\, Michigan. There Rhonda is organist at Hope Church (Reformed Church of America) and staff accompanist at Hope College\, Holland\, MI.
X-ALT-DESC;FMTTYPE=text/html:<div>\n	Organist Rhonda Sider Edgington\, of Holland\, MI\, will give a free performance at the Parish Church of St. Helena (Episcopal)\, 505 Church Street\, Beaufort\, SC on Friday\, March 30th at 7 p.m.</div>\n<div>\n	&nbsp\;</div>\n<div>\n	This will be the first evening organ recital scheduled by the church as part of its Tricentennial Celebration (1712 &ndash\; 2012) Spring Concert Series. Edgington lived in Bremen\, Germany\, from 2004 to 2011. She arrived with a Fulbright Scholarship to study the organs and music of North Germany. Throughout her years in Germany\, she performed recitals ranging from 17th century organs to German Romantic instruments and modern organs as well.</div>\n<div>\n	&nbsp\;</div>\n<div>\n	After living in Bremen\, Germany for seven years\, she moved recently with her husband Mark\, and children Isaac and Esther to Holland\, Michigan. There Rhonda is organist at Hope Church (Reformed Church of America) and staff accompanist at Hope College\, Holland\, MI.</div>\n
LOCATION:Parish Church of St. Helena (Episcopal)\, 505 Church Street\, Beaufort\, SC
UID:e.1212.4511
SEQUENCE:3
DTSTAMP:20260423T011421Z
URL:http://business.beaufortchamber.org/events/details/music-at-st-helena-s-organ-concert-03-30-2012-4511
END:VEVENT

END:VCALENDAR
