BEGIN:VCALENDAR
VERSION:2.0
PRODID:-//ChamberMaster//Event Calendar 2.0//EN
METHOD:PUBLISH
X-PUBLISHED-TTL:P3D
REFRESH-INTERVAL:P3D
CALSCALE:GREGORIAN
BEGIN:VEVENT
DTSTART:20131026T123000Z
DTEND:20131026T180000Z
X-MICROSOFT-CDO-ALLDAYEVENT:FALSE
SUMMARY:NAMI Walks 2013
DESCRIPTION:Saturday October 26\, 2013\n\n8:30 am Registration  10:00 am Walk Starts\n\nColigny Beach Hilton Head Island\, SC\n\nRegistration is FREE\n\n\n\nNAMI Walks for the Mind of America is an annual nationwide fundraising and mental health awareness program held in over 80 communities around the country\, including right here in Beaufort County.  Locally we plan to raise over $75\,000 for NAMI Beaufort County.
X-ALT-DESC;FMTTYPE=text/html:Saturday October 26\, 2013<br />\n8:30 am Registration&nbsp\; 10:00 am Walk Starts<br />\nColigny Beach Hilton Head Island\, SC<br />\nRegistration is FREE<br />\n<br />\nNAMI Walks for the Mind of America is an annual nationwide fundraising and mental health awareness program held in over 80 communities around the country\, including right here in Beaufort County.&nbsp\; Locally we plan to raise over $75\,000 for NAMI Beaufort County.
LOCATION:Coligny Beach Hilton Head Island\, SC
UID:e.1212.5060
SEQUENCE:3
DTSTAMP:20260421T182100Z
URL:http://business.beaufortchamber.org/events/details/nami-walks-2013-10-26-2013-5060
END:VEVENT

END:VCALENDAR
