BEGIN:VCALENDAR
VERSION:2.0
PRODID:-//ChamberMaster//Event Calendar 2.0//EN
METHOD:PUBLISH
X-PUBLISHED-TTL:P3D
REFRESH-INTERVAL:P3D
CALSCALE:GREGORIAN
BEGIN:VEVENT
DTSTART;VALUE=DATE:20090730
DTEND;VALUE=DATE:20090731
TRANSP:TRANSPARENT
X-MICROSOFT-CDO-ALLDAYEVENT:TRUE
SUMMARY:Natalie Daise - Mouth to Hand Gallery Show & Performance
DESCRIPTION:Please join us for her opening reception.  Natalie says  "It is a one-woman show\, in all my various guises.  It is an opportunity for me to be myself.  The stage piece is the origin of all my art.  I am a storyteller and I've moved to the canvas - instead of my spirit and mouth\, it's my spirit and my brush".    Her interpretive performances on August 7th - August 8th will be $15.
X-ALT-DESC;FMTTYPE=text/html:Please join us for her opening reception.  Natalie says  "It is a one-woman show\, in all my various guises.  It is an opportunity for me to be myself.  The stage piece is the origin of all my art.  I am a storyteller and I've moved to the canvas - instead of my spirit and mouth\, it's my spirit and my brush".    Her interpretive performances on August 7th - August 8th will be $15.
LOCATION:
UID:e.1212.3363
SEQUENCE:3
DTSTAMP:20260425T025056Z
URL:http://business.beaufortchamber.org/events/details/natalie-daise-mouth-to-hand-gallery-show-performance-07-30-2009-3363
END:VEVENT

END:VCALENDAR
