BEGIN:VCALENDAR
VERSION:2.0
PRODID:-//ChamberMaster//Event Calendar 2.0//EN
METHOD:PUBLISH
X-PUBLISHED-TTL:P3D
REFRESH-INTERVAL:P3D
CALSCALE:GREGORIAN
BEGIN:VEVENT
DTSTART:20130810T140000Z
DTEND:20130810T180000Z
X-MICROSOFT-CDO-ALLDAYEVENT:FALSE
SUMMARY:Nearly New Sale - Parish Church of St. Helena's
DESCRIPTION:Friday\, Aug. 9\, 10 to 6\, and Saturday\, Aug. 10\, 10 to 2: Nearly New Clothing Sale\, Parish House\, Parish Church of St. Helena\, 507 Newcastle St.
X-ALT-DESC;FMTTYPE=text/html:<span style="font-size: medium\;"><span style="font-family: arial\,sans-serif\;">Friday\, Aug. 9\, 10 to 6\, and Saturday\, Aug. 10\, 10 to 2: Nearly New Clothing Sale\, Parish House\, Parish Church of St. Helena\, 507 Newcastle St.</span></span><br />\n
LOCATION:Parish Church of St. Helena\, 507 Newcastle St.
UID:e.1212.5022
SEQUENCE:3
DTSTAMP:20260421T214637Z
URL:http://business.beaufortchamber.org/events/details/nearly-new-sale-parish-church-of-st-helena-s-08-10-2013-5022
END:VEVENT

END:VCALENDAR
