BEGIN:VCALENDAR
VERSION:2.0
PRODID:-//ChamberMaster//Event Calendar 2.0//EN
METHOD:PUBLISH
X-PUBLISHED-TTL:P3D
REFRESH-INTERVAL:P3D
CALSCALE:GREGORIAN
BEGIN:VEVENT
DTSTART:20130328T213000Z
DTEND:20130328T230000Z
X-MICROSOFT-CDO-ALLDAYEVENT:FALSE
SUMMARY:New Member Reception
DESCRIPTION:Thursday\, March 28\, 2013 from 5:30pm - 7pm we will be hosting a New Member Reception in the Visitor Center in the lower level of the Historic Arsenal Building at 701 Craven Street. We hope you will be able to come out and join us. It will be a great opportunity to get to know the chamber staff\, Board Members\, Ambassadors and other members\; learn how to maximize your membership as well as first hand information about what your Chamber is doing for you right now.
X-ALT-DESC;FMTTYPE=text/html:<span style="font-family: &quot\;Times New Roman&quot\;\,&quot\;serif&quot\;\; font-size: 12pt\; mso-fareast-font-family: Calibri\; mso-ansi-language: EN-US\; mso-fareast-language: EN-US\; mso-bidi-language: AR-SA\; mso-fareast-theme-font: minor-latin\;"><font color="#000000">Thursday\, March 28\, 2013 from 5:30pm - 7pm we will be hosting a New Member Reception in the Visitor Center in the lower level of the Historic Arsenal Building at 701 Craven Street. We hope you will be able to come out and join us. It will be a great opportunity to get to know the chamber staff\, Board Members\, Ambassadors and other members\; learn how to maximize your membership as well as first hand information about what your Chamber is doing for you right now. </font></span>
LOCATION:Visitors Center \, 713 Craven Street\, Beaufort\, SC
UID:e.1212.4693
SEQUENCE:3
DTSTAMP:20260422T065648Z
URL:http://business.beaufortchamber.org/events/details/new-member-reception-03-28-2013-4693
END:VEVENT

END:VCALENDAR
