BEGIN:VCALENDAR
VERSION:2.0
PRODID:-//ChamberMaster//Event Calendar 2.0//EN
METHOD:PUBLISH
X-PUBLISHED-TTL:P3D
REFRESH-INTERVAL:P3D
CALSCALE:GREGORIAN
BEGIN:VEVENT
DTSTART:20121206T223000Z
DTEND:20121207T000000Z
X-MICROSOFT-CDO-ALLDAYEVENT:FALSE
SUMMARY:New Member Reception
DESCRIPTION:
X-ALT-DESC;FMTTYPE=text/html:
LOCATION:Arsenal
UID:e.1212.4665
SEQUENCE:3
DTSTAMP:20260422T115428Z
URL:http://business.beaufortchamber.org/events/details/new-member-reception-12-06-2012-4665
END:VEVENT

END:VCALENDAR
