BEGIN:VCALENDAR
VERSION:2.0
PRODID:-//ChamberMaster//Event Calendar 2.0//EN
METHOD:PUBLISH
X-PUBLISHED-TTL:P3D
REFRESH-INTERVAL:P3D
CALSCALE:GREGORIAN
BEGIN:VEVENT
DTSTART:20121207T230000Z
DTEND:20121208T010000Z
X-MICROSOFT-CDO-ALLDAYEVENT:FALSE
SUMMARY:Night on the Town
DESCRIPTION:A Night On The Town\n\nDowntown businesses stay open late for your shopping pleasure\n\nEntertainment by local choirs\, dance groups\, and clubs.\n\nChristmas Tree lighting with Santa himself\n\nand a performance by the Parris Island Marine Corps Band\n\nimmediately following the official lighting of the City's Christmas Tree.
X-ALT-DESC;FMTTYPE=text/html:A Night On The Town<br />\nDowntown businesses stay open late for your shopping pleasure<br />\nEntertainment by local choirs\, dance groups\, and clubs.<br />\nChristmas Tree lighting with Santa himself<br />\nand a performance by the Parris Island Marine Corps Band<br />\nimmediately following the official lighting of the City&rsquo\;s Christmas Tree.
LOCATION:
UID:e.1212.4552
SEQUENCE:3
DTSTAMP:20260422T115533Z
URL:http://business.beaufortchamber.org/events/details/night-on-the-town-12-07-2012-4552
END:VEVENT

END:VCALENDAR
