BEGIN:VCALENDAR
VERSION:2.0
PRODID:-//ChamberMaster//Event Calendar 2.0//EN
METHOD:PUBLISH
X-PUBLISHED-TTL:P3D
REFRESH-INTERVAL:P3D
CALSCALE:GREGORIAN
BEGIN:VEVENT
DTSTART:20131206T230000Z
DTEND:20131207T020000Z
X-MICROSOFT-CDO-ALLDAYEVENT:FALSE
SUMMARY:Night On the Town - Downtown Beaufort
DESCRIPTION:Downtown businesses stay open late for your shopping pleasure\n\nEntertainment by local choirs\, dance groups\, and clubs.\n\nChristmas Tree lighting with Santa himself\n\nand a performance by the Parris Island Marine Corps Band\n\nimmediately following the official lighting of the City's Christmas Tree.\n\n\n\nFor more information:  www.downtownbeaufort.com
X-ALT-DESC;FMTTYPE=text/html:<span style="font-family: &quot\;Calibri&quot\;\,&quot\;sans-serif&quot\;\; font-size: 11pt\; mso-fareast-font-family: Calibri\; mso-ansi-language: EN-US\; mso-fareast-language: EN-US\; mso-bidi-language: AR-SA\; mso-fareast-theme-font: minor-latin\; mso-ascii-theme-font: minor-latin\; mso-hansi-theme-font: minor-latin\; mso-bidi-font-family: &quot\;Times New Roman&quot\;\; mso-bidi-theme-font: minor-bidi\;"><font color="#000000">Downtown businesses stay open late for your shopping pleasure<br />\nEntertainment by local choirs\, dance groups\, and clubs.<br />\nChristmas Tree lighting with Santa himself<br />\nand a performance by the Parris Island Marine Corps Band<br />\nimmediately following the official lighting of the City&rsquo\;s Christmas Tree.</font></span><br />\n<br />\nFor more information:&nbsp\; www.downtownbeaufort.com
LOCATION:
UID:e.1212.5078
SEQUENCE:3
DTSTAMP:20260421T145839Z
URL:http://business.beaufortchamber.org/events/details/night-on-the-town-downtown-beaufort-12-06-2013-5078
END:VEVENT

END:VCALENDAR
