BEGIN:VCALENDAR
VERSION:2.0
PRODID:-//ChamberMaster//Event Calendar 2.0//EN
METHOD:PUBLISH
X-PUBLISHED-TTL:P3D
REFRESH-INTERVAL:P3D
CALSCALE:GREGORIAN
BEGIN:VEVENT
DTSTART;VALUE=DATE:20091212
DTEND;VALUE=DATE:20091213
TRANSP:TRANSPARENT
X-MICROSOFT-CDO-ALLDAYEVENT:TRUE
SUMMARY:Old Town Bluffton Tour of Homes: A Christmas State of Mind
DESCRIPTION:Old Town Bluffton Tour of Homes: A Christmas State of Mind\n\nSponsored by the Bluffton Historical Preservation Society\n\nSelf-Guided Walking Tour\n\nSaturday\, December 12\, 2009\n\n12:30 p.m. – 5:30 p.m.\n\n \n\nTickets: $30 each\; tour six homes and enjoy light refreshments @ the Heyward House\, 70 Boundary Street. Buy tickets at the Heyward House\, 757-6393.\n\n \n\nTour six homes to get in A Christmas State of Mind! \n\nThe Heyward House – ca. 1840 – Home of the Bluffton Historical Preservation Society \nThe Card House – ca. 1825 – Home of Mr. & Mrs. Albert Scardino\, London \nThe Pine House – ca. 1905 – Home of Mrs. Joan Heyward \n The Fripp House – ca. 1835 – Home of Mr. & Mrs. Allen Ward \nThe Pritchard House – ca. 1890 – Home of Ms. Lucy Scardino & Mr. Peter Lamb \nThe Guscio Cottage – contemporary – Home of Mr. & Mrs. Don Guscio
X-ALT-DESC;FMTTYPE=text/html:Old Town Bluffton Tour of Homes: A Christmas State of Mind\n\nSponsored by the Bluffton Historical Preservation Society\n\nSelf-Guided Walking Tour\n\nSaturday\, December 12\, 2009\n\n12:30 p.m. – 5:30 p.m.\n\n \n\nTickets: $30 each\; tour six homes and enjoy light refreshments @ the Heyward House\, 70 Boundary Street. Buy tickets at the Heyward House\, 757-6393.\n\n \n\nTour six homes to get in A Christmas State of Mind! \n\nThe Heyward House – ca. 1840 – Home of the Bluffton Historical Preservation Society \nThe Card House – ca. 1825 – Home of Mr. & Mrs. Albert Scardino\, London \nThe Pine House – ca. 1905 – Home of Mrs. Joan Heyward \n The Fripp House – ca. 1835 – Home of Mr. & Mrs. Allen Ward \nThe Pritchard House – ca. 1890 – Home of Ms. Lucy Scardino & Mr. Peter Lamb \nThe Guscio Cottage – contemporary – Home of Mr. & Mrs. Don Guscio
LOCATION:
UID:e.1212.3722
SEQUENCE:3
DTSTAMP:20260424T205830Z
URL:http://business.beaufortchamber.org/events/details/old-town-bluffton-tour-of-homes-a-christmas-state-of-mind-12-12-2009-3722
END:VEVENT

END:VCALENDAR
