BEGIN:VCALENDAR
VERSION:2.0
PRODID:-//ChamberMaster//Event Calendar 2.0//EN
METHOD:PUBLISH
X-PUBLISHED-TTL:P3D
REFRESH-INTERVAL:P3D
CALSCALE:GREGORIAN
BEGIN:VEVENT
DTSTART;VALUE=DATE:20100227
DTEND;VALUE=DATE:20100228
TRANSP:TRANSPARENT
X-MICROSOFT-CDO-ALLDAYEVENT:TRUE
SUMMARY:Open Land and Trust - Pat Conroy 'The Green'
DESCRIPTION:Join Best-selling author\, Pat Conroy as he presents an entertaining lecture on the last undeveloped city block in historic downtown Beaufort\, followed by a cocktail reception.\nAll attendees will receive an original essay about this local landscape\, which has inspired his novels.\nAll proceeds will go toward the trust's effort to purchase "The Green" to preserve as a park.  It is located in the residential Old Point area at King & Pinckney Streets.  This park has remained open since 1711 and soldiers camped there during the Civil War.  It has also been used in the filming of several movies including "The Big Chill".\nThere will be an auction for an original 12 X 9 framed oil painting titled "Approaching The Green" by artist Pat Whitehead.  Winner need not be present.\nCost for Lecture: $150\nDonation Cost for Auction: $10
X-ALT-DESC;FMTTYPE=text/html:Join Best-selling author\, Pat Conroy as he presents an entertaining lecture on the last undeveloped city block in historic downtown Beaufort\, followed by a cocktail reception.\nAll attendees will receive an original essay about this local landscape\, which has inspired his novels.\nAll proceeds will go toward the trust's effort to purchase "The Green" to preserve as a park.  It is located in the residential Old Point area at King & Pinckney Streets.  This park has remained open since 1711 and soldiers camped there during the Civil War.  It has also been used in the filming of several movies including "The Big Chill".\nThere will be an auction for an original 12 X 9 framed oil painting titled "Approaching The Green" by artist Pat Whitehead.  Winner need not be present.\nCost for Lecture: $150\nDonation Cost for Auction: $10
LOCATION:
UID:e.1212.3760
SEQUENCE:3
DTSTAMP:20260424T171010Z
URL:http://business.beaufortchamber.org/events/details/open-land-and-trust-pat-conroy-the-green-02-27-2010-3760
END:VEVENT

END:VCALENDAR
