BEGIN:VCALENDAR
VERSION:2.0
PRODID:-//ChamberMaster//Event Calendar 2.0//EN
METHOD:PUBLISH
X-PUBLISHED-TTL:P3D
REFRESH-INTERVAL:P3D
CALSCALE:GREGORIAN
BEGIN:VEVENT
DTSTART;VALUE=DATE:20090220
DTEND;VALUE=DATE:20090221
TRANSP:TRANSPARENT
X-MICROSOFT-CDO-ALLDAYEVENT:TRUE
SUMMARY:Opening Reception - 'The Beauty of Looking Down'
DESCRIPTION:Meet Lowcountry Artist\, Benton Lutz as he presents his" Wimmen and Whimsey" show.  The colorful paintings will be accompanied by a projection of his photographic series.  Lutz is setting loose charming cats\, goofy crows and curvy women who are an appealing combination of Modigliani and Blondie (frau to Dagwood).
X-ALT-DESC;FMTTYPE=text/html:Meet Lowcountry Artist\, Benton Lutz as he presents his" Wimmen and Whimsey" show.  The colorful paintings will be accompanied by a projection of his photographic series.  Lutz is setting loose charming cats\, goofy crows and curvy women who are an appealing combination of Modigliani and Blondie (frau to Dagwood).
LOCATION:
UID:e.1212.2892
SEQUENCE:3
DTSTAMP:20260425T124949Z
URL:http://business.beaufortchamber.org/events/details/opening-reception-the-beauty-of-looking-down-02-20-2009-2892
END:VEVENT

END:VCALENDAR
