BEGIN:VCALENDAR
VERSION:2.0
PRODID:-//ChamberMaster//Event Calendar 2.0//EN
METHOD:PUBLISH
X-PUBLISHED-TTL:P3D
REFRESH-INTERVAL:P3D
CALSCALE:GREGORIAN
BEGIN:VEVENT
DTSTART:20111119T223000Z
DTEND:20111120T003000Z
X-MICROSOFT-CDO-ALLDAYEVENT:FALSE
SUMMARY:Opening Reception Twin Lens Reflections: Art of Sandy Dimke & Karen Peluso at Beaufort Art Association Gallery
DESCRIPTION:
X-ALT-DESC;FMTTYPE=text/html:
LOCATION:Beaufort Art Association Gallery
UID:e.1212.4341
SEQUENCE:3
DTSTAMP:20260423T092739Z
URL:http://business.beaufortchamber.org/events/details/opening-reception-twin-lens-reflections-art-of-sandy-dimke-karen-peluso-at-beaufort-art-association-gallery-11-19-2011-4341
END:VEVENT

END:VCALENDAR
