BEGIN:VCALENDAR
VERSION:2.0
PRODID:-//ChamberMaster//Event Calendar 2.0//EN
METHOD:PUBLISH
X-PUBLISHED-TTL:P3D
REFRESH-INTERVAL:P3D
CALSCALE:GREGORIAN
BEGIN:VEVENT
DTSTART;VALUE=DATE:20090808
DTEND;VALUE=DATE:20090809
TRANSP:TRANSPARENT
X-MICROSOFT-CDO-ALLDAYEVENT:TRUE
SUMMARY:Osher Lifelong Learning Institute - Moviespeak
DESCRIPTION:Join movie expert\, Bonnie Strongin as she presents  "Billy Elliot" in a guided film viewing and discussion experience.  Cost: $10.  OLLI Members cost: $5.
X-ALT-DESC;FMTTYPE=text/html:Join movie expert\, Bonnie Strongin as she presents  "Billy Elliot" in a guided film viewing and discussion experience.  Cost: $10.  OLLI Members cost: $5.
LOCATION:
UID:e.1212.3450
SEQUENCE:3
DTSTAMP:20260425T010923Z
URL:http://business.beaufortchamber.org/events/details/osher-lifelong-learning-institute-moviespeak-08-08-2009-3450
END:VEVENT

END:VCALENDAR
