BEGIN:VCALENDAR
VERSION:2.0
PRODID:-//ChamberMaster//Event Calendar 2.0//EN
METHOD:PUBLISH
X-PUBLISHED-TTL:P3D
REFRESH-INTERVAL:P3D
CALSCALE:GREGORIAN
BEGIN:VEVENT
DTSTART:20140117T213000Z
DTEND:20140118T003000Z
X-MICROSOFT-CDO-ALLDAYEVENT:FALSE
SUMMARY:Oyster Roast
DESCRIPTION:Historic Beaufort Foundation's Annual Oyster Roast.\n\n\n\nMusic by The Bull Grapes\n\n\n\nOyster servings at 4:30 p.m. and 6:30 p.m.
X-ALT-DESC;FMTTYPE=text/html:Historic Beaufort Foundation&#39\;s Annual Oyster Roast.<br />\n<br />\nMusic by The Bull Grapes<br />\n<br />\nOyster servings at 4:30 p.m. and 6:30 p.m.<br />\n
LOCATION:Historic Fripp Plantation on Eddings Creek
UID:e.1212.5232
SEQUENCE:3
DTSTAMP:20260421T132023Z
URL:http://business.beaufortchamber.org/events/details/oyster-roast-01-17-2014-5232
END:VEVENT

END:VCALENDAR
