BEGIN:VCALENDAR
VERSION:2.0
PRODID:-//ChamberMaster//Event Calendar 2.0//EN
METHOD:PUBLISH
X-PUBLISHED-TTL:P3D
REFRESH-INTERVAL:P3D
CALSCALE:GREGORIAN
BEGIN:VEVENT
DTSTART:20130725T110000Z
DTEND:20130725T230000Z
X-MICROSOFT-CDO-ALLDAYEVENT:FALSE
SUMMARY:Pack the Bus event - Beaufort Jasper Hampton Comprehensive Health
DESCRIPTION:"Pack the Bus 2013" event on July 25\, 2012\, from 7:00 a.m. to 7:00 p.m. at Beaufort~Jasper~Hampton Comprehensive Health Services\, 721 Okatie Hwy\, Ridgeland\, SC  29936.  Donations are being accepted in support of the Back to School Expo being held on August 10\, 2013 at Beaufort High School\, 84 Sea Island Parkway\, Beaufort\, South Carolina 29907. Your donations will be distributed to students in the Beaufort County School District.   The event is being sponsored by the Beaufort County School District\, Beaufort~Jasper~Hampton Comprehensive Health Services\, and the South Carolina Primary Health Care Association.\n\n \n\nThe attached flyer includes a list of needed supplies\, so please come out to support our children by donating as many school supplies as possible. \n\n \n\nThank you in advance for your support and donations!!\n\n \n\n \n\nGaynelle J Dantzler\, MPH\n\nAdministrative Director of Reimbursement Services\n\nBeaufort Jasper Hampton Comprehensive Health Services\n\n(843) 987-7540\n\n(843) 987-3104 fax\n\ngdantzler@bjhchs.org
X-ALT-DESC;FMTTYPE=text/html:<span style="font-size: 10pt\;"><span style="font-family: arial\,sans-serif\;"><span style="color: navy\;">&ldquo\;Pack the Bus 2013&rdquo\; event on <strong>July 25\, 2012\, from 7:00 a.m. to 7:00 p.m.</strong> at Beaufort~Jasper~Hampton Comprehensive Health Services\, 721 Okatie Hwy\, Ridgeland\, SC&nbsp\; 29936. &nbsp\;Donations are being accepted in support of the Back to School Expo being held on August 10\, 2013 at Beaufort High School\, 84 Sea Island Parkway\, Beaufort\, South Carolina 29907. Your donations will be distributed to students in the Beaufort County School District.&nbsp\;&nbsp\; The event is being sponsored by the Beaufort County School District\, Beaufort~Jasper~Hampton Comprehensive Health Services\, and the South Carolina Primary Health Care Association.</span></span></span><br />\n&nbsp\;<br />\n<span style="font-size: 10pt\;"><span style="font-family: arial\,sans-serif\;"><span style="color: navy\;">The attached flyer includes a list of needed supplies\, so please come out to support our children by donating as many school supplies as possible. </span></span></span><br />\n&nbsp\;<br />\n<span style="font-size: 10pt\;"><span style="font-family: arial\,sans-serif\;"><span style="color: navy\;">Thank you in advance for your support and donations!!</span></span></span><br />\n&nbsp\;<br />\n&nbsp\;<br />\n<span style="font-size: medium\;"><span style="font-family: times new roman\;"><span style="color: navy\;">Gaynelle J Dantzler\, MPH</span></span></span><br />\n<span style="font-size: medium\;"><span style="font-family: times new roman\;"><span style="color: navy\;">Administrative Director of Reimbursement Services</span></span></span><br />\n<span style="font-size: medium\;"><span style="font-family: times new roman\;"><span style="color: navy\;">Beaufort Jasper Hampton Comprehensive Health Services</span></span></span><br />\n<span style="font-size: medium\;"><span style="font-family: times new roman\;"><span style="color: navy\;">(843) 987-7540</span></span></span><br />\n<span style="font-size: medium\;"><span style="font-family: times new roman\;"><span style="color: navy\;">(843) 987-3104 fax</span></span></span><br />\n<span style="color: navy\;"><a href="mailto:gdantzler@bjhchs.org"><span style="font-size: medium\;"><span style="font-family: times new roman\;"><span style="color: rgb(0\, 0\, 255)\;">gdantzler@bjhchs.org</span></span></span></a></span><br />\n
LOCATION:Beaufort - Jasper - Hampton Comprehensive Health Services 721 Okatie Hwy Ridgeland SC
UID:e.1212.5041
SEQUENCE:3
DTSTAMP:20260421T232236Z
URL:http://business.beaufortchamber.org/events/details/pack-the-bus-event-beaufort-jasper-hampton-comprehensive-health-07-25-2013-5041
END:VEVENT

END:VCALENDAR
