BEGIN:VCALENDAR
VERSION:2.0
PRODID:-//ChamberMaster//Event Calendar 2.0//EN
METHOD:PUBLISH
X-PUBLISHED-TTL:P3D
REFRESH-INTERVAL:P3D
CALSCALE:GREGORIAN
BEGIN:VEVENT
DTSTART;VALUE=DATE:20090704
DTEND;VALUE=DATE:20090705
TRANSP:TRANSPARENT
X-MICROSOFT-CDO-ALLDAYEVENT:TRUE
SUMMARY:Parris Island - Annual July 4th Independence Day Celebration
DESCRIPTION:Open to the public.  Free food & soft drinks\, exhibits\, patriotic music and family fun.  The Parris Island Marine Band will begin playing at 7:00pm and a fireworks display at approximately 9:00pm.  Valid photo identification\, vehicle registration and proof of vehicle insurance are required for entry onto Parris Island.  So come on out with your blanket/chair or sit in the bleacher seating area for the best seats.  No personally owned fireworks\, glass containers and pyrotechnics on the base. Cell phone usage while driving aboard the depot is prohibited.  Parking is not permitted on the Parris Island bridge or in the grassy area next to it.
X-ALT-DESC;FMTTYPE=text/html:Open to the public.  Free food & soft drinks\, exhibits\, patriotic music and family fun.  The Parris Island Marine Band will begin playing at 7:00pm and a fireworks display at approximately 9:00pm.  Valid photo identification\, vehicle registration and proof of vehicle insurance are required for entry onto Parris Island.  So come on out with your blanket/chair or sit in the bleacher seating area for the best seats.  No personally owned fireworks\, glass containers and pyrotechnics on the base. Cell phone usage while driving aboard the depot is prohibited.  Parking is not permitted on the Parris Island bridge or in the grassy area next to it.
LOCATION:
UID:e.1212.3353
SEQUENCE:3
DTSTAMP:20260425T024952Z
URL:http://business.beaufortchamber.org/events/details/parris-island-annual-july-4th-independence-day-celebration-07-04-2009-3353
END:VEVENT

END:VCALENDAR
