BEGIN:VCALENDAR
VERSION:2.0
PRODID:-//ChamberMaster//Event Calendar 2.0//EN
METHOD:PUBLISH
X-PUBLISHED-TTL:P3D
REFRESH-INTERVAL:P3D
CALSCALE:GREGORIAN
BEGIN:VEVENT
DTSTART;VALUE=DATE:20120225
DTEND;VALUE=DATE:20120226
TRANSP:TRANSPARENT
X-MICROSOFT-CDO-ALLDAYEVENT:TRUE
SUMMARY:Pathways in Step Entrepreneurship Academy
DESCRIPTION:Learn how to become certified and start your small business operation.   8 Week Course\n\n     How to successful start and operate a small business\n\n     How to obtain proper licenses\n\n     How  to write a Business Plan\n\n     How to manage your business\n\n     Small Business Tax Instruction\n\n     How to become a Minority Certified Business\n\n     Learn about financing options\n\n     How to write a job proposal\n\n     How to market your business\n\n     Plus More.   \n\n\n\nRegister today .. Limited seating available.   For more information\, Contact Leonard @ 843-466-0006 or Shalom Grants\, LLC @ 843-524-1150  .\n\nClasses are Free\n\nCLASSES START SATURDAY FEB.25TH\, 2012
X-ALT-DESC;FMTTYPE=text/html:Learn how to become certified and start your small business operation.&nbsp\;&nbsp\; 8 Week Course<br />\n&bull\;&nbsp\;&nbsp\; &nbsp\;How to successful start and operate a small business<br />\n&bull\;&nbsp\;&nbsp\; &nbsp\;How to obtain proper licenses<br />\n&bull\;&nbsp\;&nbsp\; &nbsp\;How&nbsp\; to write a Business Plan<br />\n&bull\;&nbsp\;&nbsp\; &nbsp\;How to manage your business<br />\n&bull\;&nbsp\;&nbsp\; &nbsp\;Small Business Tax Instruction<br />\n&bull\;&nbsp\;&nbsp\; &nbsp\;How to become a Minority Certified Business<br />\n&bull\;&nbsp\;&nbsp\; &nbsp\;Learn about financing options<br />\n&bull\;&nbsp\;&nbsp\; &nbsp\;How to write a job proposal<br />\n&bull\;&nbsp\;&nbsp\; &nbsp\;How to market your business<br />\n&bull\;&nbsp\;&nbsp\; &nbsp\;Plus More.&nbsp\; &nbsp\;<br />\n<br />\nRegister today&hellip\;.. Limited seating available.&nbsp\;&nbsp\; For more information\, Contact Leonard @ 843-466-0006 or Shalom Grants\, LLC @ 843-524-1150&nbsp\; .<br />\nClasses are Free<br />\nCLASSES START SATURDAY FEB.25TH\, 2012
LOCATION:
UID:e.1212.4499
SEQUENCE:3
DTSTAMP:20260423T023738Z
URL:http://business.beaufortchamber.org/events/details/pathways-in-step-entrepreneurship-academy-02-25-2012-4499
END:VEVENT

END:VCALENDAR
