BEGIN:VCALENDAR
VERSION:2.0
PRODID:-//ChamberMaster//Event Calendar 2.0//EN
METHOD:PUBLISH
X-PUBLISHED-TTL:P3D
REFRESH-INTERVAL:P3D
CALSCALE:GREGORIAN
BEGIN:VEVENT
DTSTART;VALUE=DATE:20091008
DTEND;VALUE=DATE:20091009
TRANSP:TRANSPARENT
X-MICROSOFT-CDO-ALLDAYEVENT:TRUE
SUMMARY:Pecha Kucha Night
DESCRIPTION:Come join us and find out what the newest creative networking group is all about !  \nThe mission of PKN Beaufort is to highlight the region as a center of excellence for the creative class.  Among those presenting will be architects\, artists and the culinary unique and elite.  Individuals will provide their very own "Creative Slide Presentation" of 20 images\, each shown for 20 seconds each - giving them 6 minutes and 40 seconds to discribe their business.\nThere is no cost to participate and is free and open to the public.\nAppetizers will be provided and there will be a cash bar.
X-ALT-DESC;FMTTYPE=text/html:Come join us and find out what the newest creative networking group is all about !  \nThe mission of PKN Beaufort is to highlight the region as a center of excellence for the creative class.  Among those presenting will be architects\, artists and the culinary unique and elite.  Individuals will provide their very own "Creative Slide Presentation" of 20 images\, each shown for 20 seconds each - giving them 6 minutes and 40 seconds to discribe their business.\nThere is no cost to participate and is free and open to the public.\nAppetizers will be provided and there will be a cash bar.
LOCATION:
UID:e.1212.3575
SEQUENCE:3
DTSTAMP:20260424T220544Z
URL:http://business.beaufortchamber.org/events/details/pecha-kucha-night-10-08-2009-3575
END:VEVENT

END:VCALENDAR
