BEGIN:VCALENDAR
VERSION:2.0
PRODID:-//ChamberMaster//Event Calendar 2.0//EN
METHOD:PUBLISH
X-PUBLISHED-TTL:P3D
REFRESH-INTERVAL:P3D
CALSCALE:GREGORIAN
BEGIN:VEVENT
DTSTART;VALUE=DATE:20090101
DTEND;VALUE=DATE:20090102
TRANSP:TRANSPARENT
X-MICROSOFT-CDO-ALLDAYEVENT:TRUE
SUMMARY:Pelican Plunge
DESCRIPTION:Brrr - come join us for the "Pelican Plunge" an event similar to the Polar Bear Swim ! !   Registration 12 noon - 1:00pm.   Pelican Plunge 1:00pm.  There will be hot beverages to welcome our swimmers out of the surf.  Limited supply of commemorative T-shirts will be for sale.  Costumes and teams encouraged.  Any donations raised will be given to the Child Abuse Prevention Association.
X-ALT-DESC;FMTTYPE=text/html:Brrr - come join us for the "Pelican Plunge" an event similar to the Polar Bear Swim ! !   Registration 12 noon - 1:00pm.   Pelican Plunge 1:00pm.  There will be hot beverages to welcome our swimmers out of the surf.  Limited supply of commemorative T-shirts will be for sale.  Costumes and teams encouraged.  Any donations raised will be given to the Child Abuse Prevention Association.
LOCATION:
UID:e.1212.2775
SEQUENCE:3
DTSTAMP:20260425T124328Z
URL:http://business.beaufortchamber.org/events/details/pelican-plunge-01-01-2009-2775
END:VEVENT

END:VCALENDAR
