BEGIN:VCALENDAR
VERSION:2.0
PRODID:-//ChamberMaster//Event Calendar 2.0//EN
METHOD:PUBLISH
X-PUBLISHED-TTL:P3D
REFRESH-INTERVAL:P3D
CALSCALE:GREGORIAN
BEGIN:VEVENT
DTSTART:20120623T140000Z
DTEND:20120623T200000Z
X-MICROSOFT-CDO-ALLDAYEVENT:FALSE
SUMMARY:Penn Center 150th Anniversary & Founder's Day Celebration
DESCRIPTION:PENN CENTER CELEBRATING 150 YEARS OF EDUCATION\, LEADERSHIP & SERVICE\n\nSaturday\, June 23rd from 10am-1:30pm Penn Center will unveil its Sesquicentennial Memorial\, have performances by  Community Church Chiors\, and have Penn School students and community members-"Share Your Stories" on a documentary fim being recorded that day.  Later that day 2-4 pm the Penn Club\, Inc will hosts a Banquette Luncheon with keynote speakers: Dr. Emory S. Campbell and Mr. Roland J. Gardner at the Clarence B. Johnson Fellowship Hall at the historic Brick Baptist Church on St. Helen Island.\n\nReservations & Tickets are required for the luncheon banquette & museum entry: $20.00 / Adult\,  $12.00 / Child Ages 12-6\,  $5.00 / Child Ages 5 & Under. Please contact Penn Center for reservations and visit our website www.penncenter.com for schedule of events.
X-ALT-DESC;FMTTYPE=text/html:PENN CENTER CELEBRATING 150 YEARS OF EDUCATION\, LEADERSHIP &amp\; SERVICE<br />\nSaturday\, June 23rd from 10am-1:30pm Penn Center will unveil its Sesquicentennial Memorial\, have performances by&nbsp\; Community Church Chiors\, and have&nbsp\;Penn School students and community members-&quot\;Share Your Stories&quot\; on a documentary fim being recorded that day.&nbsp\; Later that day 2-4 pm the Penn Club\, Inc will hosts a Banquette Luncheon with keynote speakers: Dr. Emory S. Campbell and Mr. Roland J. Gardner at the Clarence B. Johnson Fellowship Hall at the historic Brick Baptist Church on St. Helen Island.<br />\nReservations &amp\; Tickets are required for the luncheon banquette &amp\; museum entry: $20.00 / Adult\,&nbsp\; $12.00 / Child Ages 12-6\,&nbsp\; $5.00 / Child Ages 5 &amp\; Under. Please contact Penn Center for reservations and visit our website <a href="http://www.penncenter.com">www.penncenter.com</a> for schedule of events.
LOCATION:Penn Center National Historic Landmark District
UID:e.1212.4531
SEQUENCE:3
DTSTAMP:20260422T221929Z
URL:http://business.beaufortchamber.org/events/details/penn-center-150th-anniversary-founder-s-day-celebration-06-23-2012-4531
END:VEVENT

END:VCALENDAR
