BEGIN:VCALENDAR
VERSION:2.0
PRODID:-//ChamberMaster//Event Calendar 2.0//EN
METHOD:PUBLISH
X-PUBLISHED-TTL:P3D
REFRESH-INTERVAL:P3D
CALSCALE:GREGORIAN
BEGIN:VEVENT
DTSTART:20121108T160000Z
DTEND:20121110T220000Z
X-MICROSOFT-CDO-ALLDAYEVENT:FALSE
SUMMARY:PENN CENTER 30th Annual Heritage Days Celebration
DESCRIPTION:Discover a unique sense of place at: PENN CENTER National Historic Landmark District "Celebrating 150 Years of Education\, Leadership and Service at its 30th ANNUAL HERITAGE DAYS CELEBRATION November 8-10\, 2012.  PENN CENTER will hosts the Heritage Days Celebration showcasing the history of Penn School and the rich cultural legacy of the Gullah Geechee people of the Sea Islands. 20\,000 attendees will converge on the historic grounds of PENN CENTER to witness a down-home celebration:\n\nAfrican Drummers & Danceers\, Gullah Storyteller\, Singers & Artisans\, Gullah Roots Village\, Fishing Tournament\, Gullah & Lowcountry Cuisine Cook-Off\, Period Re-Enactor Performances\, Gospel Extravaganza\, Aritsts & Authors Row\, Evening Dance\, Book Talks\, History & Culture Symposium & More...\n\nNovember 8th 3 PM- 9 PM\; November 9th 8:30 AM-10 PM\; November 10th 9 PM- 5 PM
X-ALT-DESC;FMTTYPE=text/html:Discover a unique sense of place at: PENN CENTER National Historic Landmark District &quot\;Celebrating 150 Years of Education\, Leadership and Service at its 30th ANNUAL HERITAGE DAYS CELEBRATION November 8-10\, 2012.&nbsp\; PENN CENTER will hosts the Heritage Days Celebration showcasing the history of Penn School and the rich cultural legacy of the Gullah Geechee people of the Sea Islands. 20\,000 attendees will converge on the historic grounds of PENN CENTER to witness a down-home celebration:<br />\nAfrican Drummers &amp\; Danceers\, Gullah Storyteller\, Singers &amp\; Artisans\, Gullah Roots Village\, Fishing Tournament\, Gullah &amp\; Lowcountry Cuisine Cook-Off\, Period Re-Enactor Performances\, Gospel Extravaganza\, Aritsts &amp\; Authors Row\, Evening Dance\, Book Talks\, History &amp\;&nbsp\;Culture Symposium &amp\; More...<br />\nNovember 8th 3 PM- 9&nbsp\;PM\; November 9th 8:30 AM-10 PM\; November 10th&nbsp\;9 PM- 5 PM&nbsp\;
LOCATION:PENN CENTER National Historic Landmark District 16 Penn Center Circle West\, St. Helena Island\, SC
UID:e.1212.4584
SEQUENCE:3
DTSTAMP:20260422T134241Z
URL:http://business.beaufortchamber.org/events/details/penn-center-30th-annual-heritage-days-celebration-11-08-2012-4584
END:VEVENT

END:VCALENDAR
