BEGIN:VCALENDAR
VERSION:2.0
PRODID:-//ChamberMaster//Event Calendar 2.0//EN
METHOD:PUBLISH
X-PUBLISHED-TTL:P3D
REFRESH-INTERVAL:P3D
CALSCALE:GREGORIAN
BEGIN:VEVENT
DTSTART;VALUE=DATE:20131107
DTEND;VALUE=DATE:20131110
TRANSP:TRANSPARENT
X-MICROSOFT-CDO-ALLDAYEVENT:TRUE
SUMMARY:PENN CENTER 31st ANNUAL HERITAGE DAYS CELEBRATION
DESCRIPTION:Join us for the 31st Annual Heritage Days Celebration November 7-9\, 2013 and discover a unique sense of place at Penn Center a National Historic Landmark  District.  The Penn Center is designed to promote and preserve the\n\nhistory and culture of the Sea Islands and is "Celebrating 150 Years of Education\, Leadership and\n\nService (2012-2014).  Heritage Days will showcase the history of Penn School which was established in\n\n1862\, and the rich cultural legacy of the Gullah Geechee people of the Sea Islands.  Enjoy African Drummers\n\nand Dancers\, Gullah Storytellers and Re-Actors\, Singers & Artisans\, Gullah &  Lowcountry\n\nCuisine\, the  Gullah Roots Village\, Fish Fry\, Oyster Roast & the Blues\, Artists & Authors Row\,\n\nArtwork featured by Cassandra Gillens & Much Much More....
X-ALT-DESC;FMTTYPE=text/html:Join us for the 31st Annual Heritage Days Celebration November 7-9\, 2013 and discover a unique sense of place at Penn Center a&nbsp\;National Historic Landmark&nbsp\; District.&nbsp\; The Penn Center is designed to&nbsp\;promote and preserve the<br />\nhistory and culture of the Sea Islands and is &quot\;Celebrating 150 Years of Education\, Leadership and<br />\nService (2012-2014).&nbsp\; Heritage Days will showcase the history of Penn School which was established in<br />\n1862\, and the rich cultural legacy of the Gullah Geechee people of the Sea Islands.&nbsp\; Enjoy African Drummers<br />\nand Dancers\, Gullah Storytellers and Re-Actors\, Singers &amp\; Artisans\, Gullah &amp\;&nbsp\; Lowcountry<br />\nCuisine\, the&nbsp\; Gullah Roots Village\, Fish Fry\, Oyster Roast &amp\; the Blues\, Artists &amp\; Authors Row\,<br />\nArtwork featured by Cassandra Gillens &amp\; Much Much More....
LOCATION:Penn Center National Historic Landmark District 16 Penn Center Circle West\, St. Helena Island\, Beaufort County\, South Carolina
UID:e.1212.5013
SEQUENCE:3
DTSTAMP:20260421T163821Z
URL:http://business.beaufortchamber.org/events/details/penn-center-31st-annual-heritage-days-celebration-11-07-2013-5013
END:VEVENT

END:VCALENDAR
